BEGIN:VCALENDAR
VERSION:2.0
PRODID:-//Laboratoire Inter-universitaire de Psychologie - ECPv6.15.17//NONSGML v1.0//EN
CALSCALE:GREGORIAN
METHOD:PUBLISH
X-ORIGINAL-URL:https://www.lippc2s.fr
X-WR-CALDESC:Évènements pour Laboratoire Inter-universitaire de Psychologie
REFRESH-INTERVAL;VALUE=DURATION:PT1H
X-Robots-Tag:noindex
X-PUBLISHED-TTL:PT1H
BEGIN:VTIMEZONE
TZID:Europe/Paris
BEGIN:DAYLIGHT
TZOFFSETFROM:+0100
TZOFFSETTO:+0200
TZNAME:CEST
DTSTART:20220327T010000
END:DAYLIGHT
BEGIN:STANDARD
TZOFFSETFROM:+0200
TZOFFSETTO:+0100
TZNAME:CET
DTSTART:20221030T010000
END:STANDARD
BEGIN:DAYLIGHT
TZOFFSETFROM:+0100
TZOFFSETTO:+0200
TZNAME:CEST
DTSTART:20230326T010000
END:DAYLIGHT
BEGIN:STANDARD
TZOFFSETFROM:+0200
TZOFFSETTO:+0100
TZNAME:CET
DTSTART:20231029T010000
END:STANDARD
BEGIN:DAYLIGHT
TZOFFSETFROM:+0100
TZOFFSETTO:+0200
TZNAME:CEST
DTSTART:20240331T010000
END:DAYLIGHT
BEGIN:STANDARD
TZOFFSETFROM:+0200
TZOFFSETTO:+0100
TZNAME:CET
DTSTART:20241027T010000
END:STANDARD
END:VTIMEZONE
BEGIN:VEVENT
DTSTART;TZID=Europe/Paris:20231113T093000
DTEND;TZID=Europe/Paris:20231113T120000
DTSTAMP:20260423T122959
CREATED:20250827T092812Z
LAST-MODIFIED:20250827T092815Z
UID:7246-1699867800-1699876800@www.lippc2s.fr
SUMMARY:Soutenance de thèse – Carla Nardelli
DESCRIPTION:Titre de la thèse : Emotion Regulation Flexibility: what does it mean\, and how can it be measured and improved?\nComposition du Jury :\nCatherine Bortolon (UGA) : Direction de thèse\nCéline Baeyens (UGA) : Co-direction de thèse\nMaya Tamir (The Hebrew University of Jerusalem) : Rapportrice\nPierre Philippot (Université Catholique de Louvain) : Rapporteur\nKristin Gainey (The University of Western Australia) : Examinatrice\nYannick Morvan (Université Paris Nanterre) : Examinateur\nAnna Tcherkassof (UGA) : Examinatrice\nMatthias Berking (Friedrich Alexander Unversitat) : Invité  \nAbstract : This thesis aimed at exploring emotion regulation (ER) flexibility from a theoretical\, methodological\, and clinical perspective. ER flexibility\, defined as the ability to synchronise ER strategies with situational demands\, has been conceptualised and operationalised in various ways\, using correlational\, experimental\, and daily designs. Chapter 1 describes the most influential models of ER\, leading us to the presentation of ER skills and a French validation of the Emotion Regulation Skills Questionnaire (Study 1). The theoretical underpinnings of flexibility are presented in Chapter 2\, in which we investigate the different measures of flexibility. First\, questionnaires are addressed\, leading to a French validation of two scales measuring two specific components of flexibility (i.e.\, context-sensitivity and repertoire) (Study 2). Next\, experimental and daily measures are explored in a Systematic review (Study 3). Finally\, an experimental study on ER choice conducted during this thesis is presented (Study 4). Chapter 3 deals with the third question of this thesis\, that is\, the extent to which ER flexibility can be improved. We thus describe clinical interventions targeting (explicitly or implicitly) ER and flexibility\, with a specific interest in one particular intervention\, named the Affect Regulation Training (ART). We have explored the role of ER variability and flexibility by conducting a Randomised Controlled Trial testing the efficacy of the ART\, using an experience sampling method (Study 5). A general discussion attempts to integrate findings into a broader perspective\, including limitations and future lines of research in ER flexibility.
URL:https://www.lippc2s.fr/event/soutenance-de-these-carla-nardelli/
LOCATION:Salle Jacques Cartier – Maison des langues\, 1141 Avenue centrale 38400 Saint Martin d’Hères
CATEGORIES:Soutenance
END:VEVENT
BEGIN:VEVENT
DTSTART;TZID=Europe/Paris:20231114T100000
DTEND;TZID=Europe/Paris:20231114T120000
DTSTAMP:20260423T122959
CREATED:20250827T094032Z
LAST-MODIFIED:20250827T133117Z
UID:7262-1699956000-1699963200@www.lippc2s.fr
SUMMARY:Séminaire – Kristin Gainez
DESCRIPTION:Titre : Varieties of Emotional Experience: Affective Processes in Depression\, Anxiety\, and Wellbeing
URL:https://www.lippc2s.fr/event/seminaire-kristin-gainez/
LOCATION:Salle Annie Génovèse – Bâtiment Michel Dubois\, 1251 rue des universités – 38400 Saint Martin d’Hères
CATEGORIES:Séminaire
END:VEVENT
BEGIN:VEVENT
DTSTART;TZID=Europe/Paris:20231124T100000
DTEND;TZID=Europe/Paris:20231124T120000
DTSTAMP:20260423T122959
CREATED:20250827T092807Z
LAST-MODIFIED:20250827T131436Z
UID:7237-1700820000-1700827200@www.lippc2s.fr
SUMMARY:Séminaire – Alexis Vancappel
DESCRIPTION:Titre : Approche cognitivo-comportementale de la dissociation: fondements empiriques et interventions thérapeutiques\nRésumé : A ce jour\, aucun traitement basé sur les données probantes n’est disponible pour les symptômes dissociatifs. Ce constat est probablement lié au fait qu’aucun modèle de la dissociation n’a réussi à combiner une applicabilité clinique et un développement basé sur les preuves. Pour répondre à cette limite\, notre équipe a dernièrement développé un ensemble de travaux portant sur la compréhension cognitivo-comportementale de la dissociation. Nous balayerons dans cette présentation l’ensemble des études qui ont permis le développement de cette compréhension (qualitative\, transversale et expérimentale). Puis\, nous aborderons le programme de thérapie cognitive et comportementale centrée sur la dissociation (TCC-CD) qui a été développé sur la base de cette compréhension. Nous présenterons les premières données relatives à son efficacité et terminerons avec les perspectives de recherche. \nAlexis Vancappel\, est psychologue MCF à l’université de Tours
URL:https://www.lippc2s.fr/event/seminaire-alexis-vancappel/
LOCATION:Salle Annie Génovèse – Bâtiment Michel Dubois\, 1251 rue des universités – 38400 Saint Martin d’Hères
CATEGORIES:Séminaire
END:VEVENT
END:VCALENDAR