BEGIN:VCALENDAR
VERSION:2.0
PRODID:-//Laboratoire Inter-universitaire de Psychologie - ECPv6.15.17//NONSGML v1.0//EN
CALSCALE:GREGORIAN
METHOD:PUBLISH
X-WR-CALNAME:Laboratoire Inter-universitaire de Psychologie
X-ORIGINAL-URL:https://www.lippc2s.fr
X-WR-CALDESC:Évènements pour Laboratoire Inter-universitaire de Psychologie
REFRESH-INTERVAL;VALUE=DURATION:PT1H
X-Robots-Tag:noindex
X-PUBLISHED-TTL:PT1H
BEGIN:VTIMEZONE
TZID:Europe/Paris
BEGIN:DAYLIGHT
TZOFFSETFROM:+0100
TZOFFSETTO:+0200
TZNAME:CEST
DTSTART:20220327T010000
END:DAYLIGHT
BEGIN:STANDARD
TZOFFSETFROM:+0200
TZOFFSETTO:+0100
TZNAME:CET
DTSTART:20221030T010000
END:STANDARD
BEGIN:DAYLIGHT
TZOFFSETFROM:+0100
TZOFFSETTO:+0200
TZNAME:CEST
DTSTART:20230326T010000
END:DAYLIGHT
BEGIN:STANDARD
TZOFFSETFROM:+0200
TZOFFSETTO:+0100
TZNAME:CET
DTSTART:20231029T010000
END:STANDARD
BEGIN:DAYLIGHT
TZOFFSETFROM:+0100
TZOFFSETTO:+0200
TZNAME:CEST
DTSTART:20240331T010000
END:DAYLIGHT
BEGIN:STANDARD
TZOFFSETFROM:+0200
TZOFFSETTO:+0100
TZNAME:CET
DTSTART:20241027T010000
END:STANDARD
END:VTIMEZONE
BEGIN:VEVENT
DTSTART;TZID=Europe/Paris:20230206T183000
DTEND;TZID=Europe/Paris:20230206T200000
DTSTAMP:20260424T045943
CREATED:20250827T094537Z
LAST-MODIFIED:20250827T094537Z
UID:7289-1675708200-1675713600@www.lippc2s.fr
SUMMARY:Atelier psycho-découverte #4
DESCRIPTION:Le programme de gestion du stress\, CBSM Animé par Marie Barday | Inscription à prix libre mais obligatoire | En distanciel via Zoom
URL:https://www.lippc2s.fr/event/atelier-psycho-decouverte-4/
CATEGORIES:Ateliers
END:VEVENT
BEGIN:VEVENT
DTSTART;TZID=Europe/Paris:20230209T140000
DTEND;TZID=Europe/Paris:20230209T170000
DTSTAMP:20260424T045943
CREATED:20250827T094224Z
LAST-MODIFIED:20250827T094226Z
UID:7276-1675951200-1675962000@www.lippc2s.fr
SUMMARY:Soutenance de thèse – Kévin Guelle
DESCRIPTION:Titre de la thèse : L’activité de remanufacturing : de la construction des repères sur les potentiels au développement des compétences pour anticiper le travail futur\nComposition du Jury :\nMarc-Éric BOBILLIER CHAUMON\, Professeur\, CNAM Paris (Rapporteur)\nMme Corinne GAUDART\, Professeure\, CNAM Paris (Rapporteure)\nPeggy ZWOLINSKI\, Professeure\, INP Grenoble (Examinatrice)\nKarine CHASSAING\, Maître de Conférence\, Université Bordeaux (Examinatrice)\nSandrine CAROLY\, Professeure\, Université Grenoble Alpes (Directrice)\nAurélie LANDRY\, Maître de Conférence\, Université Grenoble Alpes (Co-directrice)\nCécile NASSE\, Ergonome Responsable Méthodes Process\, Technicentre Industriel de la SNCF (invitée)  \nRésumé : Cette thèse porte sur le remanufacturing\, décrit comme un processus permettant à des produits usagés de retrouver une seconde vie par un nouvel état « comme neuf ». Pour autant\, permettre à un produit de retrouver ce nouvel état « comme neuf » avec des enjeux de garanties et de qualités industrielles similaires à leur conception d’origine nécessite de s’interroger sur la manière d’y parvenir. C’est tout l’attrait de ce travail de thèse en ergonomie qui s’intéresse aux enjeux de performance et de santé par l’analyse de l’activité individuelle et de l’activité collective des opérateurs\, dans le cadre d’un contexte industriel ferroviaire. En particulier\, cette thèse aborde le remanufacturing comme caractéristique d’un travail sur les potentiels des pièces d’un produit.
URL:https://www.lippc2s.fr/event/soutenance-de-these-kevin-guelle/
LOCATION:Amphithéâtre Barbillon\, Institut Polytechnique de Grenoble\, 46 Avenue Félix Viallet\, 38031 Grenoble
CATEGORIES:Soutenance
END:VEVENT
BEGIN:VEVENT
DTSTART;TZID=Europe/Paris:20230210T100000
DTEND;TZID=Europe/Paris:20230210T120000
DTSTAMP:20260424T045943
CREATED:20250827T094224Z
LAST-MODIFIED:20250827T131920Z
UID:7278-1676023200-1676030400@www.lippc2s.fr
SUMMARY:Séminaire – Corinne Gaudart & Serge Volkoff
DESCRIPTION:Titre : le travail pressé. Pour une écologie des temps de travail\nAbstract : Le modèle de la hâte tend à s’imposer dans le monde professionnel. Les exigences d’intensité\, de réactivité\, d’adaptabilité dessinent un faisceau de contraintes pesant sur les temps du travail.\nCet ouvrage rend compte d’histoires de travail cumulées lors d’études menées dans de multiples secteurs : ouvriers de l’automobile\, de la sidérurgie ou du BTP\, pâtissiers\, horticulteurs\, infirmières et aides-soignantes\, agents administratifs et encadrants\, etc. Ces femmes et ces hommes vivent des expériences communes relatives aux injonctions contradictoires de faire « vite et bien »\, à l’impossibilité de prendre le temps nécessaire pour acquérir et faire circuler des savoirs professionnels… tout en ayant le sentiment que les difficultés qu’ils éprouvent leur sont personnelles.\nLes auteurs décrivent les rouages de ce modèle de la hâte\, ses méfaits\, mais aussi les stratégies et les ruses déployées dans l’activité quotidienne\, individuelle et collective\, pour le contrer. De ces histoires se dégagent les temps essentiels\, ceux grâce auxquels on peut faire vivre son expérience\, défendre sa santé et redonner au travail tout son sens : le temps pour transmettre\, pour construire avec les autres\, pour créer.\nEn partageant ces tranches de vie\, les auteurs veulent susciter une réflexion collective sur les manières d’agir autrement\, plaidant pour une « écologie des temps du travail ». \nA propos des auteurs :\nCorinne Gaudart est ergonome\, directrice de recherche au CNRS\, au Laboratoire interdisciplinaire pour la sociologie économique (Lise). Elle est membre du Centre de recherche sur l’expérience\, l’âge et les populations au travail (Creapt).\nSerge Volkoff est statisticien et ergonome\, chercheur invité au Centre d’études de l’emploi et du travail (CEET). Il est membre du Centre de recherche sur l’expérience\, l’âge et les populations au travail (Creapt).
URL:https://www.lippc2s.fr/event/seminaire-corinne-gaudart-serge-volkoff/
LOCATION:Amphi de la MSH Alpes\, 1251 rue des universités – 38400 Saint Martin d’Hères
CATEGORIES:Séminaire
END:VEVENT
END:VCALENDAR