BEGIN:VCALENDAR
VERSION:2.0
PRODID:-//Laboratoire Inter-universitaire de Psychologie - ECPv6.15.17//NONSGML v1.0//EN
CALSCALE:GREGORIAN
METHOD:PUBLISH
X-ORIGINAL-URL:https://www.lippc2s.fr
X-WR-CALDESC:Évènements pour Laboratoire Inter-universitaire de Psychologie
REFRESH-INTERVAL;VALUE=DURATION:PT1H
X-Robots-Tag:noindex
X-PUBLISHED-TTL:PT1H
BEGIN:VTIMEZONE
TZID:Europe/Paris
BEGIN:DAYLIGHT
TZOFFSETFROM:+0100
TZOFFSETTO:+0200
TZNAME:CEST
DTSTART:20210328T010000
END:DAYLIGHT
BEGIN:STANDARD
TZOFFSETFROM:+0200
TZOFFSETTO:+0100
TZNAME:CET
DTSTART:20211031T010000
END:STANDARD
BEGIN:DAYLIGHT
TZOFFSETFROM:+0100
TZOFFSETTO:+0200
TZNAME:CEST
DTSTART:20220327T010000
END:DAYLIGHT
BEGIN:STANDARD
TZOFFSETFROM:+0200
TZOFFSETTO:+0100
TZNAME:CET
DTSTART:20221030T010000
END:STANDARD
BEGIN:DAYLIGHT
TZOFFSETFROM:+0100
TZOFFSETTO:+0200
TZNAME:CEST
DTSTART:20230326T010000
END:DAYLIGHT
BEGIN:STANDARD
TZOFFSETFROM:+0200
TZOFFSETTO:+0100
TZNAME:CET
DTSTART:20231029T010000
END:STANDARD
END:VTIMEZONE
BEGIN:VEVENT
DTSTART;TZID=Europe/Paris:20221011T140000
DTEND;TZID=Europe/Paris:20221011T170000
DTSTAMP:20260424T105042
CREATED:20250827T094720Z
LAST-MODIFIED:20250827T094720Z
UID:7308-1665496800-1665507600@www.lippc2s.fr
SUMMARY:Soutenance de thèse – Clara SCHOOSE
DESCRIPTION:Titre de la thèse : de l’ébarbage traditionnel à l’usage d’un cobot : analyse du geste professionnel dans un objectif de prévention des troubles musculo-squelettiques\nComposition du Jury :\n– Flore Barcellini\, Professeure des Universités\, CNAM Paris\, Rapporteure\n– Denys Denis\, Professeure des Universités\, Université du Québec\, Montréal\, Rapporteur\n– Aurélie Landry\, Maitresse de conférences\, Université Grenoble Alpes\, Examinatrice\n– Pascal Simonet\, Maitre de conférences\, Université de Nantes\, Examinateur\n– Peggy Zwolinski\, Professeure des Universités\, INPG\, Examinatrice\n– Sandrine Caroly\, Professeure des Universités\, Université Grenoble Alpes\, Directrice de thèse\n– Adriana Savescu\, Docteure en Sciences\, Département IET\, INRS\, Co-encadrante\, Invitée\n– Aude Cuny-Guerrier\, Docteure en Sciences\, Département HT\, INRS\, Co-encadrante\, Invitée\n– Laurent Claudon\, Chargé de Recherche\, Département HT\, INRS\, Co-encadrant\, Invitée
URL:https://www.lippc2s.fr/event/soutenance-de-these-clara-schoose/
LOCATION:Amphithéâtre Barbillon\, Institut Polytechnique de Grenoble\, 46 Avenue Félix Viallet\, 38031 Grenoble
CATEGORIES:Soutenance
END:VEVENT
BEGIN:VEVENT
DTSTART;TZID=Europe/Paris:20221014T123000
DTEND;TZID=Europe/Paris:20221014T140000
DTSTAMP:20260424T105042
CREATED:20250827T094720Z
LAST-MODIFIED:20250827T094720Z
UID:7306-1665750600-1665756000@www.lippc2s.fr
SUMMARY:Réunion d’axe – Cognition sociale
DESCRIPTION:
URL:https://www.lippc2s.fr/event/reunion-daxe-cognition-sociale-5/
LOCATION:Salle E7\, Bâtiment Michel Dubois
CATEGORIES:Réunion/Évènement interne
END:VEVENT
BEGIN:VEVENT
DTSTART;TZID=Europe/Paris:20221028T123000
DTEND;TZID=Europe/Paris:20221028T140000
DTSTAMP:20260424T105042
CREATED:20250827T094720Z
LAST-MODIFIED:20250827T094720Z
UID:7305-1666960200-1666965600@www.lippc2s.fr
SUMMARY:Réunion d’axe – Cognition sociale
DESCRIPTION:
URL:https://www.lippc2s.fr/event/reunion-daxe-cognition-sociale-4/
LOCATION:Salle E7\, Bâtiment Michel Dubois
CATEGORIES:Réunion/Évènement interne
END:VEVENT
END:VCALENDAR