BEGIN:VCALENDAR
VERSION:2.0
PRODID:-//Laboratoire Inter-universitaire de Psychologie - ECPv6.15.17//NONSGML v1.0//EN
CALSCALE:GREGORIAN
METHOD:PUBLISH
X-ORIGINAL-URL:https://www.lippc2s.fr
X-WR-CALDESC:Évènements pour Laboratoire Inter-universitaire de Psychologie
REFRESH-INTERVAL;VALUE=DURATION:PT1H
X-Robots-Tag:noindex
X-PUBLISHED-TTL:PT1H
BEGIN:VTIMEZONE
TZID:Europe/Paris
BEGIN:DAYLIGHT
TZOFFSETFROM:+0100
TZOFFSETTO:+0200
TZNAME:CEST
DTSTART:20210328T010000
END:DAYLIGHT
BEGIN:STANDARD
TZOFFSETFROM:+0200
TZOFFSETTO:+0100
TZNAME:CET
DTSTART:20211031T010000
END:STANDARD
BEGIN:DAYLIGHT
TZOFFSETFROM:+0100
TZOFFSETTO:+0200
TZNAME:CEST
DTSTART:20220327T010000
END:DAYLIGHT
BEGIN:STANDARD
TZOFFSETFROM:+0200
TZOFFSETTO:+0100
TZNAME:CET
DTSTART:20221030T010000
END:STANDARD
BEGIN:DAYLIGHT
TZOFFSETFROM:+0100
TZOFFSETTO:+0200
TZNAME:CEST
DTSTART:20230326T010000
END:DAYLIGHT
BEGIN:STANDARD
TZOFFSETFROM:+0200
TZOFFSETTO:+0100
TZNAME:CET
DTSTART:20231029T010000
END:STANDARD
END:VTIMEZONE
BEGIN:VEVENT
DTSTART;TZID=Europe/Paris:20220523T183000
DTEND;TZID=Europe/Paris:20220523T200000
DTSTAMP:20260424T200226
CREATED:20250827T095428Z
LAST-MODIFIED:20250827T095430Z
UID:7366-1653330600-1653336000@www.lippc2s.fr
SUMMARY:Atelier psycho-découverte #8
DESCRIPTION:L’approche centrée solution Animé par Jean-Baptiste Baudier  | En distanciel via Zoom | Inscription à prix libre mais obligatoire
URL:https://www.lippc2s.fr/event/atelier-psycho-decouverte-8/
CATEGORIES:Ateliers
END:VEVENT
BEGIN:VEVENT
DTSTART;TZID=Europe/Paris:20220531T190000
DTEND;TZID=Europe/Paris:20220531T203000
DTSTAMP:20260424T200226
CREATED:20250827T095546Z
LAST-MODIFIED:20250827T095546Z
UID:7377-1654023600-1654029000@www.lippc2s.fr
SUMMARY:Conférence sur la TFC #5
DESCRIPTION:Travailler avec la colère en TFC Animé par Russel KOLTS | En distanciel via Zoom | Inscription à prix libre mais obligatoire
URL:https://www.lippc2s.fr/event/conference-sur-la-tfc-5/
CATEGORIES:Colloques/Conférences
END:VEVENT
END:VCALENDAR