BEGIN:VCALENDAR
VERSION:2.0
PRODID:-//Laboratoire Inter-universitaire de Psychologie - ECPv6.15.17//NONSGML v1.0//EN
CALSCALE:GREGORIAN
METHOD:PUBLISH
X-ORIGINAL-URL:https://www.lippc2s.fr
X-WR-CALDESC:Évènements pour Laboratoire Inter-universitaire de Psychologie
REFRESH-INTERVAL;VALUE=DURATION:PT1H
X-Robots-Tag:noindex
X-PUBLISHED-TTL:PT1H
BEGIN:VTIMEZONE
TZID:Europe/Paris
BEGIN:DAYLIGHT
TZOFFSETFROM:+0100
TZOFFSETTO:+0200
TZNAME:CEST
DTSTART:20210328T010000
END:DAYLIGHT
BEGIN:STANDARD
TZOFFSETFROM:+0200
TZOFFSETTO:+0100
TZNAME:CET
DTSTART:20211031T010000
END:STANDARD
BEGIN:DAYLIGHT
TZOFFSETFROM:+0100
TZOFFSETTO:+0200
TZNAME:CEST
DTSTART:20220327T010000
END:DAYLIGHT
BEGIN:STANDARD
TZOFFSETFROM:+0200
TZOFFSETTO:+0100
TZNAME:CET
DTSTART:20221030T010000
END:STANDARD
BEGIN:DAYLIGHT
TZOFFSETFROM:+0100
TZOFFSETTO:+0200
TZNAME:CEST
DTSTART:20230326T010000
END:DAYLIGHT
BEGIN:STANDARD
TZOFFSETFROM:+0200
TZOFFSETTO:+0100
TZNAME:CET
DTSTART:20231029T010000
END:STANDARD
END:VTIMEZONE
BEGIN:VEVENT
DTSTART;TZID=Europe/Paris:20220301T083000
DTEND;TZID=Europe/Paris:20220301T100000
DTSTAMP:20260424T231648
CREATED:20250827T095428Z
LAST-MODIFIED:20250827T095430Z
UID:7367-1646123400-1646128800@www.lippc2s.fr
SUMMARY:Conférence sur la TFC #2
DESCRIPTION:Travailler avec la honte en TFC Animé par Stan STEINDL | En distanciel via Zoom | Inscription à prix libre mais obligatoire
URL:https://www.lippc2s.fr/event/conference-sur-la-tfc-2/
CATEGORIES:Colloques/Conférences
END:VEVENT
BEGIN:VEVENT
DTSTART;TZID=Europe/Paris:20220304T150000
DTEND;TZID=Europe/Paris:20220304T170000
DTSTAMP:20260424T231648
CREATED:20250827T095144Z
LAST-MODIFIED:20250827T095146Z
UID:7336-1646406000-1646413200@www.lippc2s.fr
SUMMARY:Séminaire – George Bonanno
DESCRIPTION:Trauma\, the paradox of resilience\, and regulatory flexibility.\nLe vendredi 4 Mars\, nous allons accueillir Pr George Bonanno qui nous parlera de ces recherches autour de la flexibilité en matière de régulation émotionnelle. En raison du décalage horaire\, le séminaire sera exceptionnellement organisé à 15h.  \nGeorge Bonanno est professeur de psychologie clinique au Teachers College de l’Université de Columbia\, aux États-Unis. Ses recherches et ses intérêts académiques ont porté sur la question de savoir comment les êtres humains font face à la perte\, au traumatisme et à d’autres formes d’adversité extrême\, en mettant l’accent sur la résilience et le rôle des processus flexibles d’adaptation et de régulation des émotions. En 2019\, il a reçu des prix pour l’ensemble de ses réalisations de la part de l’Association for Psychological Science (APS) et de l’International Positive Psychology Association (IPPA).  \nVoici le lien pour le séminaire de vendredi\, 04/03\, à 15h.  \nhttps://univ-grenoble-alpes-fr.zoom.us/j/92268912526?pwd=OXNlZDh0czVFbWo2bmxnYU94ZmdQQT09
URL:https://www.lippc2s.fr/event/seminaire-george-bonanno/
CATEGORIES:Séminaire
END:VEVENT
BEGIN:VEVENT
DTSTART;TZID=Europe/Paris:20220318T090000
DTEND;TZID=Europe/Paris:20220318T170000
DTSTAMP:20260424T231648
CREATED:20250827T095140Z
LAST-MODIFIED:20250827T130405Z
UID:7331-1647594000-1647622800@www.lippc2s.fr
SUMMARY:Journée sur les politiques\, la recherche et l’action contre l’isolement social
DESCRIPTION:Journée d’étude co-organisée par Hans Rocha IJzerman\nL’Université Grenoble Alpes et le Global Initiative for Loneliness and Connection organisent la première rencontre en France autour des politiques\, de la recherche et de l’action contre l’isolement social.\nCet événement international\, organisé avec le soutien du ministère des Solidarités et de la Santé et labellisée dans le cadre de la Présidence française de l’Union européenne\, réunit des scientifiques et des acteurs publics ainsi que des représentants d’organisations européennes et internationales autour des enjeux de l’isolement social\, de ses impacts sur la santé et plus généralement sur nos sociétés. La pandémie de la Covid-19 nous a largement sensibilisés aux défis que représente l’isolement\, mais la situation d’isolement social est étudiée depuis plusieurs années par les scientifiques. A partir de ces travaux de scientifiques et des retours d’expériences et d’initiatives menées particulièrement en Europe\, cette journée permettra de faire émerger un cadre pour l’élaboration d’un plan multisectoriel en matière de lien social\, mobilisant les différents acteurs pour mettre en place des mécanismes de surveillance de la solitude et du lien social au niveau national et par la suite dans toute l’Union européenne. \nhttps://www.univ-grenoble-alpes.fr/actualites/agenda/agenda-recherche/journee-sur-les-politiques-la-recherche-et-l-action-contre-l-isolement-social-1031678.kjsp?RH=1573743474198
URL:https://www.lippc2s.fr/event/journee-sur-les-politiques-la-recherche-et-laction-contre-lisolement-social/
LOCATION:Amphithéâtre de la MACI\, 339 avenue centrale – 38400 Saitn Martin d’Hères
CATEGORIES:Journée d’étude/Workshop
END:VEVENT
BEGIN:VEVENT
DTSTART;TZID=Europe/Paris:20220321T183000
DTEND;TZID=Europe/Paris:20220321T200000
DTSTAMP:20260424T231648
CREATED:20250827T095424Z
LAST-MODIFIED:20250827T095424Z
UID:7359-1647887400-1647892800@www.lippc2s.fr
SUMMARY:Atelier psycho-découverte #6
DESCRIPTION:La méditation de pleine conscience Animé par C. Fluttaz  | En distanciel via Zoom | Inscription à prix libre mais obligatoire
URL:https://www.lippc2s.fr/event/atelier-psycho-decouverte-6-2/
CATEGORIES:Ateliers
END:VEVENT
BEGIN:VEVENT
DTSTART;TZID=Europe/Paris:20220322T123000
DTEND;TZID=Europe/Paris:20220322T140000
DTSTAMP:20260424T231648
CREATED:20250827T095649Z
LAST-MODIFIED:20250827T095649Z
UID:7392-1647952200-1647957600@www.lippc2s.fr
SUMMARY:Réunion d’axe – Clinique
DESCRIPTION:
URL:https://www.lippc2s.fr/event/reunion-daxe-clinique-7/
CATEGORIES:Réunion/Évènement interne
END:VEVENT
BEGIN:VEVENT
DTSTART;TZID=Europe/Paris:20220322T140000
DTEND;TZID=Europe/Paris:20220322T170000
DTSTAMP:20260424T231648
CREATED:20250827T095141Z
LAST-MODIFIED:20250827T095141Z
UID:7333-1647957600-1647968400@www.lippc2s.fr
SUMMARY:Soutenance HDR – Anne DENIS
DESCRIPTION:Psychopathologie de la mère. Le défi de la maternité typique\nJury :\nCéline Baeyens\, Professeure des Universités\, Université Grenoble Alpes\nAbdel Halim Boudoukha\, Professeur des Universités\, Université de Nantes\nDamien Fouques\, Professeur des Universités\, Université Paris 8\nGalina Iakimova\, Professeure des Universités\, Université Côte d’Azur\nJoel Swendsen\, Directeur de recherche CNRS\, Université de Bordeaux Ségalen
URL:https://www.lippc2s.fr/event/soutenance-hdr-anne-denis/
LOCATION:Amphithéatre 1100\, Site Universitaire Jacob Bellecombette – CHAMBERY
CATEGORIES:Soutenance
END:VEVENT
BEGIN:VEVENT
DTSTART;TZID=Europe/Paris:20220331T190000
DTEND;TZID=Europe/Paris:20220331T203000
DTSTAMP:20260424T231648
CREATED:20250827T095546Z
LAST-MODIFIED:20250827T095546Z
UID:7375-1648753200-1648758600@www.lippc2s.fr
SUMMARY:Conférence sur la TFC #3
DESCRIPTION:Le travail des chaises en TFC Animé par Tobyn Bell | En distanciel via Zoom | Inscription à prix libre mais obligatoire
URL:https://www.lippc2s.fr/event/conference-sur-la-tfc-3/
CATEGORIES:Colloques/Conférences
END:VEVENT
END:VCALENDAR