BEGIN:VCALENDAR
VERSION:2.0
PRODID:-//Laboratoire Inter-universitaire de Psychologie - ECPv6.15.17//NONSGML v1.0//EN
CALSCALE:GREGORIAN
METHOD:PUBLISH
X-WR-CALNAME:Laboratoire Inter-universitaire de Psychologie
X-ORIGINAL-URL:https://www.lippc2s.fr
X-WR-CALDESC:Évènements pour Laboratoire Inter-universitaire de Psychologie
REFRESH-INTERVAL;VALUE=DURATION:PT1H
X-Robots-Tag:noindex
X-PUBLISHED-TTL:PT1H
BEGIN:VTIMEZONE
TZID:Europe/Paris
BEGIN:DAYLIGHT
TZOFFSETFROM:+0100
TZOFFSETTO:+0200
TZNAME:CEST
DTSTART:20200329T010000
END:DAYLIGHT
BEGIN:STANDARD
TZOFFSETFROM:+0200
TZOFFSETTO:+0100
TZNAME:CET
DTSTART:20201025T010000
END:STANDARD
BEGIN:DAYLIGHT
TZOFFSETFROM:+0100
TZOFFSETTO:+0200
TZNAME:CEST
DTSTART:20210328T010000
END:DAYLIGHT
BEGIN:STANDARD
TZOFFSETFROM:+0200
TZOFFSETTO:+0100
TZNAME:CET
DTSTART:20211031T010000
END:STANDARD
BEGIN:DAYLIGHT
TZOFFSETFROM:+0100
TZOFFSETTO:+0200
TZNAME:CEST
DTSTART:20220327T010000
END:DAYLIGHT
BEGIN:STANDARD
TZOFFSETFROM:+0200
TZOFFSETTO:+0100
TZNAME:CET
DTSTART:20221030T010000
END:STANDARD
END:VTIMEZONE
BEGIN:VEVENT
DTSTART;TZID=Europe/Paris:20211203T100000
DTEND;TZID=Europe/Paris:20211203T120000
DTSTAMP:20260425T034331
CREATED:20250827T095145Z
LAST-MODIFIED:20250827T095146Z
UID:7338-1638525600-1638532800@www.lippc2s.fr
SUMMARY:Séminaire – Julianne Holt-Lunstad
DESCRIPTION:Social connection:  What decades of research and a global pandemic has taught us and what we still don’t know\nPrésenté par Julianne Holt-Lunstad. Le travail de Julianne a été crucial pour identifier l’importance du lien social pour la santé (publique) et elle a travaillé avec divers gouvernements et ONGs pour mettre en œuvre des politiques nationales visant à réduire l’isolement social et la solitude (en février\, elle rencontrera des représentants du gouvernement français pour discuter de la question au niveau français). Vous pouvez trouver la biographie de Julianne ici et un Ted talk qu’elle a donné sur son travail ici.  \nRésumé de la présentation\nThe importance of human connection and concerns over the effects of isolation rose to the level of a simultaneous public health crisis during the Covid-19 pandemic; however\, much of the focus was on secondary effects on mental health and emotional well-being. There is now robust evidence from decades of interdisciplinary science documenting the protective effects of social connections on health and well-being\, with the strongest evidence on longevity. Evidence strongly suggests that social connection qualifies as a protective factor for chronic disease and premature mortality. This talk will summarize this evidence\, providing the scope of the health effects\, potential mechanisms\, and risk factors\, as well as gaps in this evidence. Overall\, this evidence points to the importance of prioritizing social connection for personal and public health. The global pandemic highlights critical challenges and opportunities for addressing social connection.  \nLieu :\nen salle A6 du Bâtiment Michel Dubois\nEn visioconférence
URL:https://www.lippc2s.fr/event/seminaire-julianne-holt-lunstad/
LOCATION:Bâtiment Michel Dubois – Salle A6\, 1251 avenue Centrale 38400 Saint Martin d’Hères
CATEGORIES:Séminaire
END:VEVENT
BEGIN:VEVENT
DTSTART;TZID=Europe/Paris:20211203T123000
DTEND;TZID=Europe/Paris:20211203T140000
DTSTAMP:20260425T034331
CREATED:20250827T095236Z
LAST-MODIFIED:20250827T095236Z
UID:7352-1638534600-1638540000@www.lippc2s.fr
SUMMARY:Réunion d’axe – Cognition Sociale
DESCRIPTION:Séminaire de laboratoire by Julianne Holt-Lunstad
URL:https://www.lippc2s.fr/event/reunion-daxe-cognition-sociale-9/
CATEGORIES:Réunion/Évènement interne
END:VEVENT
BEGIN:VEVENT
DTSTART;TZID=Europe/Paris:20211206T140000
DTEND;TZID=Europe/Paris:20211206T173000
DTSTAMP:20260425T034331
CREATED:20250827T095233Z
LAST-MODIFIED:20250827T135123Z
UID:7349-1638799200-1638811800@www.lippc2s.fr
SUMMARY:Soutenance de thèse – Cédric BATAILLER
DESCRIPTION:Titre de la thèse : Contribution des expériences répétées à l’apprentissage évaluatif : Une investigation basée sur les procédures d’approche et d’évitement\nComposition du Jury :\nPr. Maria AUGUSTINOVA\, Professeure à l’Université de Rouen-Normandie\, Rapporteuse\nDr. Christophe BLAISON\, Maître de Conférences HDR à l’Université de Paris\, Examinateur\nPr. Olivier CORNEILLE\, Professeur à l’Université Catholique de Louvain\, Rapporteur\nPr. Anne GAST\, Professeure à l’Universität zu Köln\, Examinatrice\nPr. Dominique MULLER\, Professeur à l’Université Grenoble Alpes\, Directeur de thèse\nDr. Cécile NURRA\, Maître de Conférences à l’Université Grenoble Alpes\, Co-encadrante de thèse\nPr. François RIC\, Professeur à l’Université de Bordeaux\, Examinateur\nPr. Annique SMEDING \,Professeure à l’Université de Savoie Mont-Blanc\, Invitée \nRésumé\nDans le champ de la cognition sociale implicite\, les réponses évaluatives indirectes représentent une opportunité de dépasser certaines limites de l’auto-report. Sensées capter quelque chose de progressivement encodé au cours du temps et guidant nos comportements\, ces mesures permettraient de déterminer l’attitude que quelqu’un a envers quelque chose\, et ce\, même lorsque cet individu ne voudrait pas ou ne pourrait pas dévoiler ses préférences. Pour la plupart des modèles théoriques rendant compte de ces réponses comportementales\, c’est au travers d’expériences répétées que nous développons ces réponses évaluatives indirectes. De récents travaux expérimentaux\, cependant\, ont mis en évidence l’impact que de simples instructions pouvaient avoir sur ces réponses évaluatives. À travers ce travail de thèse\, nous défendons l’idée que les effets de l’exposition répétée et ceux de simples instructions diffèrent. Pour investiguer cette question\, nous avons tout d’abord développé un paradigme d’entraînement à l’approche et à l’évitement au cours duquel nos participant·es devaient approcher et éviter des stimuli de manière répétée. Après avoir montré que de nouvelles réponses évaluatives indirectes naissaient de ce type d’entraînement (Exp. 1a–2)\, nous avons comparé ce paradigme expérimental à une procédure basée sur les instructions (Exp. 3–7). Parmi ces cinq études comparant les deux procédures sur plusieurs types de réponses évaluatives indirectes\, auprès de différentes populations\, et dans différentes situations\, deux ont révélé une plus grande efficacité des entraînements à l’approche et à l’évitement (les trois autres ne s’étant pas révélées conclusives). Deux études complémentaires ont traité la question des théories naïves que pouvaient avoir des individus sur cette question (Exp. 8 & 9). Ces résultats\, pris dans leur ensemble\, s’inscrivent dans la continuité d’avancées théoriques récentes dans le champ de la cognition sociale implicite et nous amènent à recommander de privilégier des paradigmes tels que les entraînements à l’approche et à l’évitement comparativement aux paradigmes basés sur de simples instructions.
URL:https://www.lippc2s.fr/event/soutenance-de-these-cedric-batailler/
LOCATION:Salle Annie Génovèse – Bâtiment Michel Dubois\, 1251 rue des universités – 38400 Saint Martin d’Hères
CATEGORIES:Soutenance
END:VEVENT
BEGIN:VEVENT
DTSTART;TZID=Europe/Paris:20211206T183000
DTEND;TZID=Europe/Paris:20211206T200000
DTSTAMP:20260425T034331
CREATED:20250827T095427Z
LAST-MODIFIED:20250827T095430Z
UID:7363-1638815400-1638820800@www.lippc2s.fr
SUMMARY:Atelier psycho-découverte #3
DESCRIPTION:L’activation comportementale Animé par Jean-Baptiste Baudier  | En distanciel via Zoom | Inscription à prix libre mais obligatoire
URL:https://www.lippc2s.fr/event/atelier-psycho-decouverte-3-2/
CATEGORIES:Ateliers
END:VEVENT
BEGIN:VEVENT
DTSTART;TZID=Europe/Paris:20211210T140000
DTEND;TZID=Europe/Paris:20211210T173000
DTSTAMP:20260425T034331
CREATED:20250827T095232Z
LAST-MODIFIED:20250827T140317Z
UID:7347-1639144800-1639157400@www.lippc2s.fr
SUMMARY:Soutenance de thèse – Roxane TURGON
DESCRIPTION:Titre de la thèse : Prévenir et prendre en charge les troubles des conduites alimentaires par la réduction de l’internalisation de l’idéal de minceur : le rôle de la dissonance cognitive\nComposition du Jury :\nMme Céline BAEYENS\, Professeure\, Université Grenoble Alpes\, Présidente\nMme Catherine BLATIER\, Professeure\, Université Grenoble Alpes\, Directrice de thèse\nMme Rebecca SHANKLAND\, Professeure\, Université Lumière Lyon 2\, Co-Directrice de thèse\nM. Christophe LEYS\, Professeur\, Université libre de Bruxelles\, Rapporteur\nM. Grégory MICHEL\, Professeur\, Université de Bordeaux\, Rapporteur\nM. Pascal ANTOINE\, Professeur\, Université de Lille\, Examinateur \nRésumé :\nLe nombre de diagnostic pour les Troubles des conduites alimentaires (TCA) est en augmentation que ce soit pour une population féminine ou masculine. Des programmes de prévention et de traitement des TCA existent\, cependant leur mise en place et le taux de rétablissement restent modérés. L’objectif de cette thèse est d’évaluer si la Théorie de la dissonance cognitive est applicable à diverses populations dans le domaine des TCA pour inciter les personnes à modifier leurs comportements et leurs attitudes. Une revue systématique a montré que l’induction de la dissonance chez des participants cliniques et non-cliniques semble efficace comparée à des groupes contrôles dans une diversité de troubles psychologiques mais que les effets restent mitigés par rapport à d’autres interventions. La littérature sur l’induction de dissonance dans la prévention des TCA est très documentée mais un pan entier reste à explorer concernant son efficacité sur des pré-adolescents\, notamment sur des garçons. Un essai contrôlé randomisé comparant un programme de prévention\, induisant la dissonance\, à un documentaire vidéo sur des pré-adolescents a montré l’efficacité du programme sur la variable cible « internalisation de l’idéal de minceur ». Cependant\, ce programme se révèle moins efficace sur les pré-adolescents que lorsqu’il est proposé à des participants plus âgés sur les autres facteurs de risque des TCA et sur les symptômes TCA. Les résultats de cette étude montrent le besoin d’un changement de cible pour améliorer la prévention des TCA chez les pré-adolescents. Un protocole de recherche\, combinant un design à bases multiples avec des évaluations écologiques momentanées\, décrit un programme induisant de la dissonance pour les parents d’adolescents. Les adolescents ne participent pas au programme mais peuvent faire les activités entre les séances en interaction avec leurs parents. Les résultats attendus sont que les parents et les enfants diminuent leurs facteurs de risque des TCA. Une méta-analyse a été conduite afin de déterminer si les programmes basés sur la pleine conscience sont des groupes contrôles actifs crédibles. Nos résultats semblent indiquer que ces programmes sont efficaces pour réduire les symptômes TCA et d’autres dimensions affectées par le TCA (e.g.\, insatisfaction corporelle) en comparaison avec les effets observés sur des groupes contrôles passifs. L’essai contrôlé randomisé propose d’enrichir la littérature sur l’induction de dissonance dans le traitement des TCA en comparant chez des participantes ayant un TCA chronique un programme d’induction de dissonance à un programme basé sur la pleine conscience et à un programme basé sur l’approche centrée sur la personne. Les résultats montrent uniquement un effet du temps sur les variables pour les trois programmes. Nous ne pouvons pas conclure à l’efficacité des programmes\, étant donné l’absence dans notre protocole il n’y avait pas de groupe contrôle passif\, ni à la supériorité d’un programme par rapport à un autre. En conclusion\, cette thèse suggère que l’induction de la dissonance est une technique efficace dans la prévention des TCA cependant il faut en privilégier l’utilisation pour les individus à partir de 15 ans. Cette thèse s’accorde avec la littérature en montrant que l’induction de dissonance est moins efficace sur les pré-adolescents. Il serait intéressant d’investiguer l’entourage des pré-adolescents dans la prévention afin de fournir aux adolescents un environnement positif pour les protéger de l’apparition d’un TCA. L’induction de dissonance semble efficace pour des femmes ayant un TCA\, principalement une boulimie et une hyperphagie boulimique. Cependant son efficacité sur des femmes ayant un TCA chronique et sa supériorité face aux interventions actives restent à confirmer. Les futures recherches pourraient évaluer si l’induction de dissonance est efficace sur des participants ayant une anorexie mentale et sur une population masculine.
URL:https://www.lippc2s.fr/event/soutenance-de-these-roxane-turgon/
LOCATION:Salle Annie Génovèse – Bâtiment Michel Dubois\, 1251 rue des universités – 38400 Saint Martin d’Hères
CATEGORIES:Soutenance
END:VEVENT
BEGIN:VEVENT
DTSTART;TZID=Europe/Paris:20211215T100000
DTEND;TZID=Europe/Paris:20211215T120000
DTSTAMP:20260425T034331
CREATED:20250827T095236Z
LAST-MODIFIED:20250827T095236Z
UID:7355-1639562400-1639569600@www.lippc2s.fr
SUMMARY:Réunion d’axe – RAC
DESCRIPTION:
URL:https://www.lippc2s.fr/event/reunion-daxe-rac-5/
CATEGORIES:Réunion/Évènement interne
END:VEVENT
BEGIN:VEVENT
DTSTART;TZID=Europe/Paris:20211215T133000
DTEND;TZID=Europe/Paris:20211215T170000
DTSTAMP:20260425T034331
CREATED:20250827T095232Z
LAST-MODIFIED:20250827T095232Z
UID:7348-1639575000-1639587600@www.lippc2s.fr
SUMMARY:Soutenance de thèse – Déborah GAUDIN
DESCRIPTION:Titre de la thèse : Le travail d’organisation du dirigeant dans la très petite entreprise (TPE) : enjeux de prévention en restauration traditionnelle\nComposition du Jury :\nMme Béatrice BARTHE\, Maître de Conférences HDR\, Université Toulouse Jean Jaurès (Rapporteure)\nM. Johann PETIT\, Maître de Conférences HDR\, Université de Bordeaux (Rapporteur)\nMme Marie-Ève MAJOR\, Professeure\, Université de Sherbrooke (Examinatrice)\nM. Philippe SARNIN\, Professeur des Universités\, Université Lumière Lyon 2 (Examinateur)\nMme Agnès AUBLET-CUVELIER\, Directrice du Département Homme au travail\, INRS (Invitée)\nMme Irène GAILLARD\, Maître de Conférences\, Ipst-CNAM\, Invitée  \nRésumé\nDans une approche développementale de l’ergonomie\, les atteintes à la santé (TMS/RPS) sont envisagées comme une conséquence possible d’un manque de ressources des travailleurs pour réguler leur activité et l’organisation du travail. Agir pour une prévention efficace dans les très petites entreprises (TPE) de la restauration traditionnelle implique dès lors de considérer le rôle du dirigeant dans la construction d’une organisation capacitante au sein de son établissement. L’objet de cette recherche est de s’intéresser à la manière dont le travail d’organisation du dirigeant peut permettre d’élaborer des conditions de réalisation du travail favorisant la performance et la rentabilité de son petit restaurant\, ainsi que sa propre santé et celle de ses salariés dans son établissement. La méthodologie combine l’analyse statistique de l’enquête épidémiologique SUMER (2016-2017) sur les conditions de travail des salariés en restauration et l’analyse descriptive et comparative du travail d’organisation de dirigeants dans plusieurs petits restaurants traditionnels\, avec une perspective ergonomique. Le recueil de données comprend les réponses des salariés de la restauration au questionnaire de l’enquête SUMER\, des entretiens\, des observations et des autoconfrontations à des traces de l’activité réelle. Les résultats de l’étude épidémiologique montrent que les salariés de la restauration traditionnelle sont exposés à de multiples contraintes d’ordre temporelle\, physique et psychique\, en particulier au niveau des horaires de travail et des exigences émotionnelles. Les possibilités de coopérer et de prendre des initiatives s’avèrent cependant importantes\, elles peuvent en outre être un facteur de préservation de la santé. Les résultats de l’étude ergonomique révèlent que le travail d’organisation des dirigeants des petits restaurants traditionnels participe à concevoir un contexte en faveur de la prévention des atteintes à la santé\, notamment par la gestion du temps de travail et d’un réseau de personnes ressources. Au cours des situations de travail du service de midi\, l’activité des dirigeants contribue à la coordination collective interprofessionnelle et leurs stratégies opératoires permettent de réguler une forte variabilité liée à la présence des clients. Enfin\, le travail d’organisation des dirigeants consiste à transformer l’organisation réelle en rendant possible son évolution\, en tenant la performance\, la rentabilité de l’établissement\, sa propre santé et celle des salariés.  \nMots clés travail d’organisation\, prévention\, dirigeant\, très petite entreprise (TPE)\, restauration
URL:https://www.lippc2s.fr/event/soutenance-de-these-deborah-gaudin/
LOCATION:Génie Industriel\, INP Grenoble\, Amphi C\, 46 Avenue Félix Viallet\, 38000 Grenoble
CATEGORIES:Soutenance
END:VEVENT
END:VCALENDAR