BEGIN:VCALENDAR
VERSION:2.0
PRODID:-//Laboratoire Inter-universitaire de Psychologie - ECPv6.15.17//NONSGML v1.0//EN
CALSCALE:GREGORIAN
METHOD:PUBLISH
X-WR-CALNAME:Laboratoire Inter-universitaire de Psychologie
X-ORIGINAL-URL:https://www.lippc2s.fr
X-WR-CALDESC:Évènements pour Laboratoire Inter-universitaire de Psychologie
REFRESH-INTERVAL;VALUE=DURATION:PT1H
X-Robots-Tag:noindex
X-PUBLISHED-TTL:PT1H
BEGIN:VTIMEZONE
TZID:Europe/Paris
BEGIN:DAYLIGHT
TZOFFSETFROM:+0100
TZOFFSETTO:+0200
TZNAME:CEST
DTSTART:20240331T010000
END:DAYLIGHT
BEGIN:STANDARD
TZOFFSETFROM:+0200
TZOFFSETTO:+0100
TZNAME:CET
DTSTART:20241027T010000
END:STANDARD
BEGIN:DAYLIGHT
TZOFFSETFROM:+0100
TZOFFSETTO:+0200
TZNAME:CEST
DTSTART:20250330T010000
END:DAYLIGHT
BEGIN:STANDARD
TZOFFSETFROM:+0200
TZOFFSETTO:+0100
TZNAME:CET
DTSTART:20251026T010000
END:STANDARD
BEGIN:DAYLIGHT
TZOFFSETFROM:+0100
TZOFFSETTO:+0200
TZNAME:CEST
DTSTART:20260329T010000
END:DAYLIGHT
BEGIN:STANDARD
TZOFFSETFROM:+0200
TZOFFSETTO:+0100
TZNAME:CET
DTSTART:20261025T010000
END:STANDARD
END:VTIMEZONE
BEGIN:VEVENT
DTSTART;TZID=Europe/Paris:20251202T140000
DTEND;TZID=Europe/Paris:20251202T170000
DTSTAMP:20260422T141322
CREATED:20251015T072222Z
LAST-MODIFIED:20251107T101800Z
UID:7997-1764684000-1764694800@www.lippc2s.fr
SUMMARY:Soutenance de thèse - Laetitia Vital
DESCRIPTION:Titre\nConception\, déploiement et évaluation des effets d’une Équipe Mobile Qualité de Vie et Conditions de Travail (EMQVCT) en EHPAD via une approche systémique et capacitante \n\nJury\n\nMme Christine JEOFFRION \, PR UGA -Direction de thèse\nDavy CASTEL\, MCU Université de Picardie Jules Verne – Co-encadrement de thèse\nMme Sabrina ROUAT\, PR Université Lyon 2 – Rapporteur\nM. Philippe SARNIN\, PR EMERITE Université Lyon 2 – Rapporteur\nMme Virginie ALTHAUS\, MCF Université de Rouen Normandie – Examinateur\nM. Emmanuel ABORD DE CHATILLON\, PR UGA – Examinateur\nMme Corinne VAN DE WEERDT DOCTEURE EN SCIENCES INRS – Examinateur\n\n\n\n\nRésumé\nLe secteur des Établissements d’Hébergement pour Personnes Âgées Dépendantes (EHPAD) fait face à des transformations structurelles majeures : vieillissement de la population\, augmentation des pathologies neurodégénératives\, tensions économiques\, difficultés de recrutement et de fidélisation\, évolution des attentes en matière de prise en charge. Ces changements\, accentués par la crise sanitaire\, renforcent la complexité les démarches d’amélioration de la Qualité de Vie et des Conditions de Travail (QVCT). Comprendre comment les professionnels des EHPAD peuvent faire évoluer leurs pratiques vers des modes de fonctionnement individuels et collectifs favorables au développement de la QVCT constitue un enjeu majeur pour la psychologie du travail et des organisations (PTO). Cette thèse analyse la conception et l’évaluation d’une équipe mobile QVCT (EMQVCT) développée selon une approche systémique et capacitante\, et expérimentée dans 12 EHPAD. Dans ce cadre\, la recherche-action visait à renforcer trois ressources clés : le pouvoir d’agir\, le soutien social et l’apprentissage organisationnel. Pour atteindre cet objectif\, elle s’est appuyée sur l’étude et la mise en place d’Espaces de Discussion sur le Travail (EDT)\, lieux au sein desquels se construisent l’analyse de l’activité\, la régulation collective et l’élaboration de pistes d’amélioration de l’organisation et des conditions de travail. Ces EDT ont constitué un socle conceptuel et opérationnel\, soutenant la mise en œuvre d’une intervention complexe déployée sur trois niveaux : inter-établissements\, intra-établissement\, et individuel. Celle-ci s’est structurée autour de six études complémentaires : un diagnostic quantitatif (N = 294)\, une étude qualitative par focus groups (N = 73)\, l’analyse d’échanges de pratiques au niveau inter-établissements (N = 37 cadres)\, l’analyse d’échanges de courriels pour les accompagnements personnalisés au niveau individuel (N = 38 cadres)\, l’étude de trois interventions collectives au niveau intra-établissement (accompagnement méthodologique des EDT\, simulation de l’activité à visée organisationnelle\, questionnement circulaire pour renforcer les relations IDE/IDEC)\, et une évaluation globale de l’EMQVCT via une triangulation (questionnaire N = 14\, entretiens N = 7\, co-analyse réflexive N = 2). L’évaluation de l’EMQVCT s’appuie sur les modèles CPO (Context–Process–Outcomes) et CME (Contexte–Mécanisme–Effets). Ces modèles permettent d’analyser l’intervention à la fois comme moyen d’action et comme objet de recherche\, en mettant en relation le contexte\, les processus et les effets. L’approche CME introduit en outre la notion de semi-régularité\, en identifiant les mécanismes récurrents qui\, sans être systématiques\, peuvent éclairer les conditions dans lesquelles l’intervention produit des effets ou rencontre des limites. Dans ce cadre\, les résultats montrent une évolution positive du pouvoir d’agir et du soutien social des cadres\, soutenue par des mécanismes d’apprentissage organisationnel collectif et de partage d’expériences. Ces changements se traduisent par la création ou l’amélioration d’EDT et par une évolution des représentations de la QVCT\, notamment concernant la place des collectifs dans l’organisation du travail et la coopération. Toutefois\, la durabilité de ces changements reste incertaine. Cette intervention complexe\, combinant plusieurs modalités et niveaux d’action\, enclenche des dynamiques de changement et constitue un modèle potentiellement transférable à d’autres contextes. Poursuivre ce type d’expérimentation ouvre des perspectives d’action et de recherche en PTO\, tant pour consolider les transformations engagées que pour approfondir la compréhension des leviers favorisant une amélioration durable et co-construite de la QVCT.
URL:https://www.lippc2s.fr/event/soutenance-de-these-laeticia-vital/
LOCATION:Bâtiment Michel Dubois – Salle A6\, 1251 avenue Centrale 38400 Saint Martin d’Hères
CATEGORIES:Soutenance
END:VEVENT
END:VCALENDAR