BEGIN:VCALENDAR
VERSION:2.0
PRODID:-//Laboratoire Inter-universitaire de Psychologie - ECPv6.15.17//NONSGML v1.0//EN
CALSCALE:GREGORIAN
METHOD:PUBLISH
X-ORIGINAL-URL:https://www.lippc2s.fr
X-WR-CALDESC:Évènements pour Laboratoire Inter-universitaire de Psychologie
REFRESH-INTERVAL;VALUE=DURATION:PT1H
X-Robots-Tag:noindex
X-PUBLISHED-TTL:PT1H
BEGIN:VTIMEZONE
TZID:Europe/Paris
BEGIN:DAYLIGHT
TZOFFSETFROM:+0100
TZOFFSETTO:+0200
TZNAME:CEST
DTSTART:20220327T010000
END:DAYLIGHT
BEGIN:STANDARD
TZOFFSETFROM:+0200
TZOFFSETTO:+0100
TZNAME:CET
DTSTART:20221030T010000
END:STANDARD
BEGIN:DAYLIGHT
TZOFFSETFROM:+0100
TZOFFSETTO:+0200
TZNAME:CEST
DTSTART:20230326T010000
END:DAYLIGHT
BEGIN:STANDARD
TZOFFSETFROM:+0200
TZOFFSETTO:+0100
TZNAME:CET
DTSTART:20231029T010000
END:STANDARD
BEGIN:DAYLIGHT
TZOFFSETFROM:+0100
TZOFFSETTO:+0200
TZNAME:CEST
DTSTART:20240331T010000
END:DAYLIGHT
BEGIN:STANDARD
TZOFFSETFROM:+0200
TZOFFSETTO:+0100
TZNAME:CET
DTSTART:20241027T010000
END:STANDARD
END:VTIMEZONE
BEGIN:VEVENT
DTSTART;TZID=Europe/Paris:20231124T100000
DTEND;TZID=Europe/Paris:20231124T120000
DTSTAMP:20260422T110942
CREATED:20250827T092807Z
LAST-MODIFIED:20250827T131436Z
UID:7237-1700820000-1700827200@www.lippc2s.fr
SUMMARY:Séminaire – Alexis Vancappel
DESCRIPTION:Titre : Approche cognitivo-comportementale de la dissociation: fondements empiriques et interventions thérapeutiques\nRésumé : A ce jour\, aucun traitement basé sur les données probantes n’est disponible pour les symptômes dissociatifs. Ce constat est probablement lié au fait qu’aucun modèle de la dissociation n’a réussi à combiner une applicabilité clinique et un développement basé sur les preuves. Pour répondre à cette limite\, notre équipe a dernièrement développé un ensemble de travaux portant sur la compréhension cognitivo-comportementale de la dissociation. Nous balayerons dans cette présentation l’ensemble des études qui ont permis le développement de cette compréhension (qualitative\, transversale et expérimentale). Puis\, nous aborderons le programme de thérapie cognitive et comportementale centrée sur la dissociation (TCC-CD) qui a été développé sur la base de cette compréhension. Nous présenterons les premières données relatives à son efficacité et terminerons avec les perspectives de recherche. \nAlexis Vancappel\, est psychologue MCF à l’université de Tours
URL:https://www.lippc2s.fr/event/seminaire-alexis-vancappel/
LOCATION:Salle Annie Génovèse – Bâtiment Michel Dubois\, 1251 rue des universités – 38400 Saint Martin d’Hères
CATEGORIES:Séminaire
END:VEVENT
END:VCALENDAR