BEGIN:VCALENDAR
VERSION:2.0
PRODID:-//Laboratoire Inter-universitaire de Psychologie - ECPv6.15.17//NONSGML v1.0//EN
CALSCALE:GREGORIAN
METHOD:PUBLISH
X-WR-CALNAME:Laboratoire Inter-universitaire de Psychologie
X-ORIGINAL-URL:https://www.lippc2s.fr
X-WR-CALDESC:Évènements pour Laboratoire Inter-universitaire de Psychologie
REFRESH-INTERVAL;VALUE=DURATION:PT1H
X-Robots-Tag:noindex
X-PUBLISHED-TTL:PT1H
BEGIN:VTIMEZONE
TZID:Europe/Paris
BEGIN:DAYLIGHT
TZOFFSETFROM:+0100
TZOFFSETTO:+0200
TZNAME:CEST
DTSTART:20220327T010000
END:DAYLIGHT
BEGIN:STANDARD
TZOFFSETFROM:+0200
TZOFFSETTO:+0100
TZNAME:CET
DTSTART:20221030T010000
END:STANDARD
BEGIN:DAYLIGHT
TZOFFSETFROM:+0100
TZOFFSETTO:+0200
TZNAME:CEST
DTSTART:20230326T010000
END:DAYLIGHT
BEGIN:STANDARD
TZOFFSETFROM:+0200
TZOFFSETTO:+0100
TZNAME:CET
DTSTART:20231029T010000
END:STANDARD
BEGIN:DAYLIGHT
TZOFFSETFROM:+0100
TZOFFSETTO:+0200
TZNAME:CEST
DTSTART:20240331T010000
END:DAYLIGHT
BEGIN:STANDARD
TZOFFSETFROM:+0200
TZOFFSETTO:+0100
TZNAME:CET
DTSTART:20241027T010000
END:STANDARD
END:VTIMEZONE
BEGIN:VEVENT
DTSTART;TZID=Europe/Paris:20230906T103000
DTEND;TZID=Europe/Paris:20230906T120000
DTSTAMP:20260422T155935
CREATED:20250827T094029Z
LAST-MODIFIED:20250827T094029Z
UID:7258-1693996200-1694001600@www.lippc2s.fr
SUMMARY:Séminaire – Michele Belloni
DESCRIPTION:Title : The impact of working conditions on mental health: Novel evidence from the UK\nMichele présentera son dernier papier ” The impact of working conditions on mental health: Novel evidence from the UK” publié dans Labour Economics\, et coécrit avec Ludovico Carrino (Université de Trieste et King’s College London) et Elena Meschi (Université de Milan).
URL:https://www.lippc2s.fr/event/seminaire-michele-belloni/
LOCATION:Salle 103 – Bâtiment Michel Dubois\, Grenoble
CATEGORIES:Séminaire
END:VEVENT
END:VCALENDAR