BEGIN:VCALENDAR
VERSION:2.0
PRODID:-//Laboratoire Inter-universitaire de Psychologie - ECPv6.15.17//NONSGML v1.0//EN
CALSCALE:GREGORIAN
METHOD:PUBLISH
X-WR-CALNAME:Laboratoire Inter-universitaire de Psychologie
X-ORIGINAL-URL:https://www.lippc2s.fr
X-WR-CALDESC:Évènements pour Laboratoire Inter-universitaire de Psychologie
REFRESH-INTERVAL;VALUE=DURATION:PT1H
X-Robots-Tag:noindex
X-PUBLISHED-TTL:PT1H
BEGIN:VTIMEZONE
TZID:Europe/Paris
BEGIN:DAYLIGHT
TZOFFSETFROM:+0100
TZOFFSETTO:+0200
TZNAME:CEST
DTSTART:20210328T010000
END:DAYLIGHT
BEGIN:STANDARD
TZOFFSETFROM:+0200
TZOFFSETTO:+0100
TZNAME:CET
DTSTART:20211031T010000
END:STANDARD
BEGIN:DAYLIGHT
TZOFFSETFROM:+0100
TZOFFSETTO:+0200
TZNAME:CEST
DTSTART:20220327T010000
END:DAYLIGHT
BEGIN:STANDARD
TZOFFSETFROM:+0200
TZOFFSETTO:+0100
TZNAME:CET
DTSTART:20221030T010000
END:STANDARD
BEGIN:DAYLIGHT
TZOFFSETFROM:+0100
TZOFFSETTO:+0200
TZNAME:CEST
DTSTART:20230326T010000
END:DAYLIGHT
BEGIN:STANDARD
TZOFFSETFROM:+0200
TZOFFSETTO:+0100
TZNAME:CET
DTSTART:20231029T010000
END:STANDARD
END:VTIMEZONE
BEGIN:VEVENT
DTSTART;TZID=Europe/Paris:20221202T100000
DTEND;TZID=Europe/Paris:20221202T120000
DTSTAMP:20260423T071337
CREATED:20250827T094541Z
LAST-MODIFIED:20250827T094541Z
UID:7297-1669975200-1669982400@www.lippc2s.fr
SUMMARY:Séminaire – Maya Tamir
DESCRIPTION:Titre : Motivated Emotion Regulation\nL’axe clinique accueillera (via zoom) le 2 décembre Maya Tamir. Maya Tamir est professeur titulaire de psychologie à l’Hebrew University of Jerusalem. Elle a obtenu son doctorat en psychologie sociale et de la personnalité à l’Université de l’Illinois à Urbana-Champaign et a effectué un post-doctorat à l’Université de Stanford. Elle étudie ce que les gens veulent ressentir et pourquoi. Plus précisément\, elle étudie si et comment les gens peuvent tirer bénéfice de leurs émotions\, s’ils essaient d’utiliser leurs émotions d’une manière qui leur est utile et comment ils apprennent des conséquences potentielles de leurs émotions.  \nSa page internet : https://www.mayatamir.com/  \nThe clinical axes will welcome (via zoom – the link will be sent soon) on December 2nd Maya Tamir. Maya Tamir is a full professor of psychology at the Hebrew University of Jerusalem. She received her PhD in social-personality psychology from the University of Illinois at Urbana-Champaign and completed a post-doctoral fellowship at Stanford University. She and her colleagues study what people want to feel and why. More specifically\, she studies whether and how people can benefit from their emotions\, whether they try to use their emotions in ways that are helpful to them\, and how they learn about the potential consequences of their emotions.  \nHer website: https://www.mayatamir.com/  \nAbstract : Emotion regulation is important for psychological well-being\, yet we know relatively little about why\, when\, and how hard people try to regulate emotions. In this talk\, I consider effortful emotion regulation as a unique form of cybernetic control and derive several hypotheses from this approach. First\, I suggest that what people want to feel varies and drives emotion regulation. Second\, I hypothesize that discrepancies between actual and desired emotions inform the process and outcomes of emotion regulation. Finally\, I propose that success in emotion regulation depends on both the content and the strength of motivation. I share empirical data that speak to these hypotheses\, discuss their potential implications\, and highlight open questions that await future research.
URL:https://www.lippc2s.fr/event/seminaire-maya-tamir/
CATEGORIES:Séminaire
END:VEVENT
END:VCALENDAR