BEGIN:VCALENDAR
VERSION:2.0
PRODID:-//Laboratoire Inter-universitaire de Psychologie - ECPv6.15.17//NONSGML v1.0//EN
CALSCALE:GREGORIAN
METHOD:PUBLISH
X-ORIGINAL-URL:https://www.lippc2s.fr
X-WR-CALDESC:Évènements pour Laboratoire Inter-universitaire de Psychologie
REFRESH-INTERVAL;VALUE=DURATION:PT1H
X-Robots-Tag:noindex
X-PUBLISHED-TTL:PT1H
BEGIN:VTIMEZONE
TZID:Europe/Paris
BEGIN:DAYLIGHT
TZOFFSETFROM:+0100
TZOFFSETTO:+0200
TZNAME:CEST
DTSTART:20210328T010000
END:DAYLIGHT
BEGIN:STANDARD
TZOFFSETFROM:+0200
TZOFFSETTO:+0100
TZNAME:CET
DTSTART:20211031T010000
END:STANDARD
BEGIN:DAYLIGHT
TZOFFSETFROM:+0100
TZOFFSETTO:+0200
TZNAME:CEST
DTSTART:20220327T010000
END:DAYLIGHT
BEGIN:STANDARD
TZOFFSETFROM:+0200
TZOFFSETTO:+0100
TZNAME:CET
DTSTART:20221030T010000
END:STANDARD
BEGIN:DAYLIGHT
TZOFFSETFROM:+0100
TZOFFSETTO:+0200
TZNAME:CEST
DTSTART:20230326T010000
END:DAYLIGHT
BEGIN:STANDARD
TZOFFSETFROM:+0200
TZOFFSETTO:+0100
TZNAME:CET
DTSTART:20231029T010000
END:STANDARD
END:VTIMEZONE
BEGIN:VEVENT
DTSTART;TZID=Europe/Paris:20220909T100000
DTEND;TZID=Europe/Paris:20220909T120000
DTSTAMP:20260423T114443
CREATED:20250827T094843Z
LAST-MODIFIED:20250827T133818Z
UID:7314-1662717600-1662724800@www.lippc2s.fr
SUMMARY:Séminaire – Martin Krippl
DESCRIPTION:Titre The how\, when and what of facial movements: Facial emotion expression and interpretation.\nDr Martin Krippl\, Otto-von-Guericke University Magdeburg \nRésumé Facial movements (Action Units\, AUs) are important signs of emotions. Important questions are: What is the brain basis of the sign production? How are the signs interpreted? Which of these signs are produced in emotion induction of fear and sadness and which psychophysiological reactions co-occur there? I will answer these questions partly in this talk mainly with a reference to emotion theories\, especially basic emotion theory (e.g. Ekman\, 1992). First\, I will show by fMRI-data that the production of AUs are organized in the primary motor area of the frontal cortex in a quasi-somatotopic order. Second\, I will show data on the interpretation of AU-combinations which are seen as fear expressions in EMFACS (Friesen & Ekman\, 1983). Interestingly many of these AU-combinations are interpreted as disgust or sadness. This questions usual assumptions of Ekman’s basic emotion theory (Ekman\, 1992). Third\, in another study I question Ekman’s basic emotion theory\, especially its universality assumption of facial emotion expressions. We compared German participants with an indigenous group in Uganda\, the Karamoja. The Karamoja showed strongly reduced recognition rates of the picture stimuli. Several universality criteria were tested\, but in most emotions and most criteria\, they were not fulfilled. Fourth\, I show results of an emotion induction study\, where fear and sadness were induced by film parts. Facial expressions had practically no coherence with self-reports of fear and sadness. Psychophysiological data (EDA\, IBI\, finger temperature\, neck EMG\, breathing) are also reported as well as their coherence with self-report of fear and sadness. Fifth\, I will present data on the emotion expression of elite high jumpers after clearing or missing their maximal height. We could demonstrate that triumph as first established by Hwang & Matsumoto (2012)\, is not only an emotion category\, which is recognized\, but also which happens in meaningful situations\, also in sport types with no direct fight between competitors. Theoretical implications of all the data are discussed referring to basic emotion theory\, dialect theory and other rivaling theories of emotion.
URL:https://www.lippc2s.fr/event/seminaire-martin-krippl/
LOCATION:Salle Annie Génovèse – Bâtiment Michel Dubois\, 1251 rue des universités – 38400 Saint Martin d’Hères
CATEGORIES:Séminaire
END:VEVENT
BEGIN:VEVENT
DTSTART;TZID=Europe/Paris:20220909T140000
DTEND;TZID=Europe/Paris:20220909T160000
DTSTAMP:20260423T114443
CREATED:20250827T094843Z
LAST-MODIFIED:20250827T132544Z
UID:7313-1662732000-1662739200@www.lippc2s.fr
SUMMARY:Séminaire – Gregory Webster
DESCRIPTION:Titre Using Cross-Classified SEMs to Assess Consensus\, Accuracy\, and Assumed Similarity in Personality Judgments of Game of Thrones Characters and Students Based on Their Laptop Stickers
URL:https://www.lippc2s.fr/event/seminaire-gregory-webster/
LOCATION:Salle Annie Génovèse – Bâtiment Michel Dubois\, 1251 rue des universités – 38400 Saint Martin d’Hères
CATEGORIES:Séminaire
END:VEVENT
END:VCALENDAR