BEGIN:VCALENDAR
VERSION:2.0
PRODID:-//Laboratoire Inter-universitaire de Psychologie - ECPv6.15.17//NONSGML v1.0//EN
CALSCALE:GREGORIAN
METHOD:PUBLISH
X-ORIGINAL-URL:https://www.lippc2s.fr
X-WR-CALDESC:Évènements pour Laboratoire Inter-universitaire de Psychologie
REFRESH-INTERVAL;VALUE=DURATION:PT1H
X-Robots-Tag:noindex
X-PUBLISHED-TTL:PT1H
BEGIN:VTIMEZONE
TZID:Europe/Paris
BEGIN:DAYLIGHT
TZOFFSETFROM:+0100
TZOFFSETTO:+0200
TZNAME:CEST
DTSTART:20200329T010000
END:DAYLIGHT
BEGIN:STANDARD
TZOFFSETFROM:+0200
TZOFFSETTO:+0100
TZNAME:CET
DTSTART:20201025T010000
END:STANDARD
BEGIN:DAYLIGHT
TZOFFSETFROM:+0100
TZOFFSETTO:+0200
TZNAME:CEST
DTSTART:20210328T010000
END:DAYLIGHT
BEGIN:STANDARD
TZOFFSETFROM:+0200
TZOFFSETTO:+0100
TZNAME:CET
DTSTART:20211031T010000
END:STANDARD
BEGIN:DAYLIGHT
TZOFFSETFROM:+0100
TZOFFSETTO:+0200
TZNAME:CEST
DTSTART:20220327T010000
END:DAYLIGHT
BEGIN:STANDARD
TZOFFSETFROM:+0200
TZOFFSETTO:+0100
TZNAME:CET
DTSTART:20221030T010000
END:STANDARD
END:VTIMEZONE
BEGIN:VEVENT
DTSTART;TZID=Europe/Paris:20210312T100000
DTEND;TZID=Europe/Paris:20210312T120000
DTSTAMP:20260424T153609
CREATED:20250827T101030Z
LAST-MODIFIED:20250827T101030Z
UID:7556-1615543200-1615550400@www.lippc2s.fr
SUMMARY:Séminaire – Cristina OTTAVIANI
DESCRIPTION:Heart-brain interactions in perseverative cognition: From experimental studies to clinical interventions\nIn my seminar\, I will review a series of studies conducted in different settings (laboratory\, fMRI\, daily life)\, populations (healthy\, major depression\, generalized anxiety)\, location (United States\, Europe)\, and age groups (children\, adults) that consistently replicated the existence of a nexus between cognitive and autonomic inflexibility when examining the mind wandering – perseverative cognition continuum. More recent studies on the possibility to influence cognitive control by experimentally manipulating cortical excitability via non-invasive brain stimulation techniques will be presented\, with important implications for the prevention and timely treatment of stress-related disorders  \nCristina OTTAVIANI\, Sapienza University of Rome\, Department of Psychology\nWeb : http://dippsi.psi.uniroma1.it/users/ottaviani-cristina
URL:https://www.lippc2s.fr/event/seminaire-cristina-ottaviani/
CATEGORIES:Séminaire
END:VEVENT
END:VCALENDAR