BEGIN:VCALENDAR
VERSION:2.0
PRODID:-//Laboratoire Inter-universitaire de Psychologie - ECPv6.15.17//NONSGML v1.0//EN
CALSCALE:GREGORIAN
METHOD:PUBLISH
X-WR-CALNAME:Laboratoire Inter-universitaire de Psychologie
X-ORIGINAL-URL:https://www.lippc2s.fr
X-WR-CALDESC:Évènements pour Laboratoire Inter-universitaire de Psychologie
REFRESH-INTERVAL;VALUE=DURATION:PT1H
X-Robots-Tag:noindex
X-PUBLISHED-TTL:PT1H
BEGIN:VTIMEZONE
TZID:Europe/Paris
BEGIN:DAYLIGHT
TZOFFSETFROM:+0100
TZOFFSETTO:+0200
TZNAME:CEST
DTSTART:20220327T010000
END:DAYLIGHT
BEGIN:STANDARD
TZOFFSETFROM:+0200
TZOFFSETTO:+0100
TZNAME:CET
DTSTART:20221030T010000
END:STANDARD
BEGIN:DAYLIGHT
TZOFFSETFROM:+0100
TZOFFSETTO:+0200
TZNAME:CEST
DTSTART:20230326T010000
END:DAYLIGHT
BEGIN:STANDARD
TZOFFSETFROM:+0200
TZOFFSETTO:+0100
TZNAME:CET
DTSTART:20231029T010000
END:STANDARD
BEGIN:DAYLIGHT
TZOFFSETFROM:+0100
TZOFFSETTO:+0200
TZNAME:CEST
DTSTART:20240331T010000
END:DAYLIGHT
BEGIN:STANDARD
TZOFFSETFROM:+0200
TZOFFSETTO:+0100
TZNAME:CET
DTSTART:20241027T010000
END:STANDARD
END:VTIMEZONE
BEGIN:VEVENT
DTSTART;TZID=Europe/Paris:20231006T100000
DTEND;TZID=Europe/Paris:20231006T120000
DTSTAMP:20260422T124512
CREATED:20250827T092811Z
LAST-MODIFIED:20250827T133535Z
UID:7244-1696586400-1696593600@www.lippc2s.fr
SUMMARY:Séminaire – Marc-Eric Bobillier-Chaumon
DESCRIPTION:Titre : Concevoir et déployer des technologies soutenables pour un travail plus durable : L’entrée par l’acceptation située des technologies\nRésumé Le déploiement des technologies émergentes dans les activités (qu’elles soient à visées professionnelles\, sociodomestiques ou médicosociales) pose non seulement la question de leur adéquation à ces systèmes de vie et de travail\, mais interroge également sur les transformations qu’elles provoquent dans les différentes composantes de l’activité\, avec des incidences fortes sur ses conditions d’exercice et sur la santé des personnes. Pour être soutenables\, les technologies ne doivent pas seulement être en capacité de s’intégrer à ces environnements (sous-entendu être utiles\, utilisables et accessibles)\, il faut aussi qu’elles s’incarnent dans ces activités. Autrement dit\, qu’elles prennent sens dans l’activité qui se fait\, et surtout qu’elles donnent du sens et de la valeur à cette activité en reconnaissant/soutenant les capacités d’action et d’initiatives des personnes. L’acceptation située se positionne dans cette perspective.
URL:https://www.lippc2s.fr/event/seminaire-marc-eric-bobillier-chaumon/
LOCATION:Salle Annie Génovèse – Bâtiment Michel Dubois\, 1251 rue des universités – 38400 Saint Martin d’Hères
CATEGORIES:Séminaire
END:VEVENT
END:VCALENDAR