BEGIN:VCALENDAR
VERSION:2.0
PRODID:-//Laboratoire Inter-universitaire de Psychologie - ECPv6.15.17//NONSGML v1.0//EN
CALSCALE:GREGORIAN
METHOD:PUBLISH
X-ORIGINAL-URL:https://www.lippc2s.fr
X-WR-CALDESC:Évènements pour Laboratoire Inter-universitaire de Psychologie
REFRESH-INTERVAL;VALUE=DURATION:PT1H
X-Robots-Tag:noindex
X-PUBLISHED-TTL:PT1H
BEGIN:VTIMEZONE
TZID:Europe/Paris
BEGIN:DAYLIGHT
TZOFFSETFROM:+0100
TZOFFSETTO:+0200
TZNAME:CEST
DTSTART:20220327T010000
END:DAYLIGHT
BEGIN:STANDARD
TZOFFSETFROM:+0200
TZOFFSETTO:+0100
TZNAME:CET
DTSTART:20221030T010000
END:STANDARD
BEGIN:DAYLIGHT
TZOFFSETFROM:+0100
TZOFFSETTO:+0200
TZNAME:CEST
DTSTART:20230326T010000
END:DAYLIGHT
BEGIN:STANDARD
TZOFFSETFROM:+0200
TZOFFSETTO:+0100
TZNAME:CET
DTSTART:20231029T010000
END:STANDARD
BEGIN:DAYLIGHT
TZOFFSETFROM:+0100
TZOFFSETTO:+0200
TZNAME:CEST
DTSTART:20240331T010000
END:DAYLIGHT
BEGIN:STANDARD
TZOFFSETFROM:+0200
TZOFFSETTO:+0100
TZNAME:CET
DTSTART:20241027T010000
END:STANDARD
END:VTIMEZONE
BEGIN:VEVENT
DTSTART;TZID=Europe/Paris:20230906T103000
DTEND;TZID=Europe/Paris:20230906T120000
DTSTAMP:20260422T142021
CREATED:20250827T094029Z
LAST-MODIFIED:20250827T094029Z
UID:7258-1693996200-1694001600@www.lippc2s.fr
SUMMARY:Séminaire – Michele Belloni
DESCRIPTION:Title : The impact of working conditions on mental health: Novel evidence from the UK\nMichele présentera son dernier papier ” The impact of working conditions on mental health: Novel evidence from the UK” publié dans Labour Economics\, et coécrit avec Ludovico Carrino (Université de Trieste et King’s College London) et Elena Meschi (Université de Milan).
URL:https://www.lippc2s.fr/event/seminaire-michele-belloni/
LOCATION:Salle 103 – Bâtiment Michel Dubois\, Grenoble
CATEGORIES:Séminaire
END:VEVENT
BEGIN:VEVENT
DTSTART;TZID=Europe/Paris:20230926T100000
DTEND;TZID=Europe/Paris:20230926T120000
DTSTAMP:20260422T142021
CREATED:20250827T094029Z
LAST-MODIFIED:20250827T094029Z
UID:7256-1695722400-1695729600@www.lippc2s.fr
SUMMARY:Séminaire – Gaëlle Vallée-Tourangeau
DESCRIPTION:Title : Métaréflexions sur le discours de la méthode en psychologie scientifique
URL:https://www.lippc2s.fr/event/seminaire-gaelle-vallee-tourangeau/
CATEGORIES:Séminaire
END:VEVENT
BEGIN:VEVENT
DTSTART;TZID=Europe/Paris:20230929T100000
DTEND;TZID=Europe/Paris:20230929T120000
DTSTAMP:20260422T142021
CREATED:20250827T094028Z
LAST-MODIFIED:20250827T131754Z
UID:7254-1695981600-1695988800@www.lippc2s.fr
SUMMARY:Séminaire – Cédric Lemogne
DESCRIPTION:Rôle des facteurs psychologiques dans le COVID long Même après une forme bénigne de COVID-19\, de nombreux patients souffrent de symptômes prolongés qui peuvent altérer leur qualité de vie pendant des mois. Le rôle potentiel de mécanismes psychologiques dans cette affection post-COVID-19\, souvent qualifiée de “COVID long”\, est évoqué depuis les premiers mois de la pandémie. Les données probantes étayant cette hypothèse s’accumulent désormais. Premièrement\, un antécédent de symptômes anxieux ou dépressifs constitue un facteur de risque d’affection post-COVID-19 avec une relation dose-réponse et une taille d’effet similaire à celles observées pour d’autres facteurs de risque. Cette association s’étend à d’autres formes de détresse psychologique\, notamment stress perçu et sentiment de solitude. Deuxièmement\, des croyances spécifiques concernant la COVID-19 ont été associées au risque de survenue ultérieure de symptômes similaires\, quelques semaines à plusieurs mois plus tard. D’autres études\, non encore répliquées\, suggèrent une influence du contexte de la première infection (première versus seconde vague de la pandémie\, avant l’émergence des principaux variants et de la vaccination) et de la confiance dans diverses sources d’informations sur la COVID-19 sur le risque de symptômes ultérieurs. Les modèles bayésiens de la perception rendent particulièrement bien compte de ces résultats dans un cadre théorique similaire à celui avancé pour les troubles somatiques fonctionnels\, intégrant une anticipation accrue des symptômes\, des capacités à percevoir l’état physiologique du corps (intéroception) diminuées et une intolérance à l’incertitude dans le contexte de symptômes initialement déclenchés par un épisode infectieux. Ces mécanismes psychologiques ne doivent évidemment pas être considérés comme exclusifs. Mais étant modifiables\, ils pourraient être ciblés dans des essais cliniques\, au sein d’une prise en charge intégrative et multidisciplinaire.
URL:https://www.lippc2s.fr/event/seminaire-cedric-lemogne/
LOCATION:Salle 19001 du bâtiment 19 de l’USMB\, Campus Jacob-Bellecombette\, Rue Jean Baptiste Richard\, 73000 Jacob-Bellecombette
CATEGORIES:Séminaire
END:VEVENT
END:VCALENDAR