BEGIN:VCALENDAR
VERSION:2.0
PRODID:-//Laboratoire Inter-universitaire de Psychologie - ECPv6.15.17//NONSGML v1.0//EN
CALSCALE:GREGORIAN
METHOD:PUBLISH
X-ORIGINAL-URL:https://www.lippc2s.fr
X-WR-CALDESC:Évènements pour Laboratoire Inter-universitaire de Psychologie
REFRESH-INTERVAL;VALUE=DURATION:PT1H
X-Robots-Tag:noindex
X-PUBLISHED-TTL:PT1H
BEGIN:VTIMEZONE
TZID:Europe/Paris
BEGIN:DAYLIGHT
TZOFFSETFROM:+0100
TZOFFSETTO:+0200
TZNAME:CEST
DTSTART:20210328T010000
END:DAYLIGHT
BEGIN:STANDARD
TZOFFSETFROM:+0200
TZOFFSETTO:+0100
TZNAME:CET
DTSTART:20211031T010000
END:STANDARD
BEGIN:DAYLIGHT
TZOFFSETFROM:+0100
TZOFFSETTO:+0200
TZNAME:CEST
DTSTART:20220327T010000
END:DAYLIGHT
BEGIN:STANDARD
TZOFFSETFROM:+0200
TZOFFSETTO:+0100
TZNAME:CET
DTSTART:20221030T010000
END:STANDARD
BEGIN:DAYLIGHT
TZOFFSETFROM:+0100
TZOFFSETTO:+0200
TZNAME:CEST
DTSTART:20230326T010000
END:DAYLIGHT
BEGIN:STANDARD
TZOFFSETFROM:+0200
TZOFFSETTO:+0100
TZNAME:CET
DTSTART:20231029T010000
END:STANDARD
END:VTIMEZONE
BEGIN:VEVENT
DTSTART;TZID=Europe/Paris:20220708T140000
DTEND;TZID=Europe/Paris:20220708T160000
DTSTAMP:20260423T131117
CREATED:20250827T094847Z
LAST-MODIFIED:20250827T094849Z
UID:7320-1657288800-1657296000@www.lippc2s.fr
SUMMARY:Séminaire – Mélanie Levasseur
DESCRIPTION:Titre Promotion de la santé et de la participation sociale d’aînés : un programme de recherche visant le développement et l’évaluation d’un continuum d’interventions innovantes  \nRésumé\nFinancé notamment par un volet Fondation des Instituts de recherche en santé du Canada (IRSC; #148466; 2016-24)\, son programme de recherche cible le développement et l’évaluation d’un continuum d’interventions innovantes pour favoriser la participation sociale des aînés\, incluant l’ergothérapie préventive avec le programme Remodeler sa vie (Lifestyle Redesign) et l’Accompagnement-citoyen personnalisé d’intégration communautaire (APIC).  \nBiographie\nMélanie Levasseur est ergothérapeute\, directrice de la recherche et professeure titulaire à l’École de réadaptation de l’Université de Sherbrooke\, et chercheure au Centre de recherche sur le vieillissement\, CIUSSS de l’Estrie-CHUS. Elle détient un doctorat en sciences cliniques de l’Université de Sherbrooke et a aussi réalisé un stage postdoctoral en promotion de la santé à l’Institut de recherche en santé publique de l’Université de Montréal. Professeure Levasseur est nouvelle chercheuse des IRSC (bourse salariale #360880; 2017-2022) et chercheuse séniore des Fonds de la recherche en santé du Québec (#298996; 2021-2025).  \nBiography\nMélanie Levasseur is an occupational therapist\, director of research and full professor at the School of Rehabilitation of the Université de Sherbrooke\, and a researcher at the Research Centre on Aging\, CIUSSS de l’Estrie-CHUS. She holds a doctorate in clinical sciences from the Université de Sherbrooke and also completed a postdoctoral fellowship in health promotion at the Institut de recherche en santé publique de l’Université de Montréal (IRSPUM). Professor Levasseur is a Canadian Institute of health research (CIHR) New Investigator (salary award #360880; 2017-2022) and a Fonds de la recherche en santé du Québec Senior Researcher (#298996; 2021-2025). Funded notably by a Foundation Grant from the CIHR (#148466; 2016-24)\, her research program targets the development and evaluation of a continuum of innovative interventions to promote the social participation of older adults\, including preventive occupational therapy with the Lifestyle Redesign (programme Remodeler sa vie) and the personalised citizen assistance for social participation (APIC).
URL:https://www.lippc2s.fr/event/seminaire-melanie-levasseur/
LOCATION:Amphi 19000 – Université Savoie Mont Blanc\, Rue Jean Baptiste Richard\, 73000 Jacob-Bellecombette\, France
CATEGORIES:Séminaire
END:VEVENT
END:VCALENDAR