BEGIN:VCALENDAR
VERSION:2.0
PRODID:-//Laboratoire Inter-universitaire de Psychologie - ECPv6.15.17//NONSGML v1.0//EN
CALSCALE:GREGORIAN
METHOD:PUBLISH
X-ORIGINAL-URL:https://www.lippc2s.fr
X-WR-CALDESC:Évènements pour Laboratoire Inter-universitaire de Psychologie
REFRESH-INTERVAL;VALUE=DURATION:PT1H
X-Robots-Tag:noindex
X-PUBLISHED-TTL:PT1H
BEGIN:VTIMEZONE
TZID:Europe/Paris
BEGIN:DAYLIGHT
TZOFFSETFROM:+0100
TZOFFSETTO:+0200
TZNAME:CEST
DTSTART:20210328T010000
END:DAYLIGHT
BEGIN:STANDARD
TZOFFSETFROM:+0200
TZOFFSETTO:+0100
TZNAME:CET
DTSTART:20211031T010000
END:STANDARD
BEGIN:DAYLIGHT
TZOFFSETFROM:+0100
TZOFFSETTO:+0200
TZNAME:CEST
DTSTART:20220327T010000
END:DAYLIGHT
BEGIN:STANDARD
TZOFFSETFROM:+0200
TZOFFSETTO:+0100
TZNAME:CET
DTSTART:20221030T010000
END:STANDARD
BEGIN:DAYLIGHT
TZOFFSETFROM:+0100
TZOFFSETTO:+0200
TZNAME:CEST
DTSTART:20230326T010000
END:DAYLIGHT
BEGIN:STANDARD
TZOFFSETFROM:+0200
TZOFFSETTO:+0100
TZNAME:CET
DTSTART:20231029T010000
END:STANDARD
END:VTIMEZONE
BEGIN:VEVENT
DTSTART;TZID=Europe/Paris:20220602T100000
DTEND;TZID=Europe/Paris:20220602T120000
DTSTAMP:20260423T144311
CREATED:20250827T095139Z
LAST-MODIFIED:20250827T095139Z
UID:7329-1654164000-1654171200@www.lippc2s.fr
SUMMARY:Séminaire – Willy Buchmann
DESCRIPTION:Participer à la conception du travail futur : pour une approche ergonomique diachronique Présenté par Willy Buchmann\, MCF en ergonomie au CNAM Résumé de la présentation  NR
URL:https://www.lippc2s.fr/event/seminaire-willy-buchmann/
LOCATION:Salle B206 – BDM\, Campus de Grenoble
CATEGORIES:Séminaire
END:VEVENT
BEGIN:VEVENT
DTSTART;TZID=Europe/Paris:20220603T100000
DTEND;TZID=Europe/Paris:20220603T120000
DTSTAMP:20260423T144311
CREATED:20250827T095139Z
LAST-MODIFIED:20250827T132302Z
UID:7330-1654250400-1654257600@www.lippc2s.fr
SUMMARY:Séminaire – François Ric
DESCRIPTION:Le lien évaluation-action : Vers une explication informationnelle de l’effet de compatibilité approche/évitement\nPrésenté par François Ric\, Université de Bordeaux \nRésumé de la présentation\nL’objectif de ces études était d’étudier les mécanismes sous-tendant le lien entre la perception de stimuli affectifs et l’activation de tendances d’approche/évitement (AE). La littérature suggère que la perception d’un stimulus positif entraîne l’initiation d’un comportement d’approche alors que la perception d’un stimulus négatif entraîne l’initiation d’un comportement d’évitement (i.e.\, effet de compatibilité AE ; Chen & Bargh\, 1999 ; Rougier et al.\, 2018). Toutefois\, les processus sous-tendant ces effets restent mal identifiés. Une première série d’études cherchait à tester si les tendances pouvaient être déclenchées de manière incidente par des stimuli sans rapport direct avec l’action effective (i.e.\, approcher/éviter un objet « neutre »). Deux études indiquent que ces effets de compatibilité AE peuvent être observés suite à l’exposition à des stimuli affectifs dégradés présentés auditivement et a priori sans pertinence pour les comportements mesurés. De plus\, les résultats suggèrent que le lien entre la perception des stimuli et l’AE n’est pas direct\, mais que l’information affective serait utilisée pour répondre aux exigences de la tâche. Plus précisément\, pour rendre compte de ces résultats\, nous avons proposé que la dimension évaluative des stimuli est utilisée pour répondre à la question que les individus ont en tête lorsqu’ils réalisent la tâche. Deux autres études testaient plus directement cette hypothèse et en exploraient les limites. Dans celle-ci\, l’objet de l’information affective était manipulé via les consignes (« demandez-vous si vous devez approcher » vs. « demandez-vous si vous devez éviter ») et les stimuli affectifs étaient présentés à la fois visuellement et de manière clairement visible. Dans la première étude\, les stimuli affectifs précédaient la présentation des cibles alors que dans la seconde l’activation de la dimension affective survenait au même moment que la présentation de la cible. Les résultats de ces deux dernières études sont conformes aux hypothèses et l’ensemble de ces études indiquent donc qu’une explication de l’effet de compatibilité AE en termes informationnels est plausible\, du moins lorsque les stimuli affectifs sont sans pertinence pour le comportement mesuré (i.e.\, en absence d’activation de but d’évaluation).
URL:https://www.lippc2s.fr/event/seminaire-francois-ric/
LOCATION:Salle Annie Génovèse – Bâtiment Michel Dubois\, 1251 rue des universités – 38400 Saint Martin d’Hères
CATEGORIES:Séminaire
END:VEVENT
END:VCALENDAR