BEGIN:VCALENDAR
VERSION:2.0
PRODID:-//Laboratoire Inter-universitaire de Psychologie - ECPv6.15.17//NONSGML v1.0//EN
CALSCALE:GREGORIAN
METHOD:PUBLISH
X-WR-CALNAME:Laboratoire Inter-universitaire de Psychologie
X-ORIGINAL-URL:https://www.lippc2s.fr
X-WR-CALDESC:Évènements pour Laboratoire Inter-universitaire de Psychologie
REFRESH-INTERVAL;VALUE=DURATION:PT1H
X-Robots-Tag:noindex
X-PUBLISHED-TTL:PT1H
BEGIN:VTIMEZONE
TZID:Europe/Paris
BEGIN:DAYLIGHT
TZOFFSETFROM:+0100
TZOFFSETTO:+0200
TZNAME:CEST
DTSTART:20210328T010000
END:DAYLIGHT
BEGIN:STANDARD
TZOFFSETFROM:+0200
TZOFFSETTO:+0100
TZNAME:CET
DTSTART:20211031T010000
END:STANDARD
BEGIN:DAYLIGHT
TZOFFSETFROM:+0100
TZOFFSETTO:+0200
TZNAME:CEST
DTSTART:20220327T010000
END:DAYLIGHT
BEGIN:STANDARD
TZOFFSETFROM:+0200
TZOFFSETTO:+0100
TZNAME:CET
DTSTART:20221030T010000
END:STANDARD
BEGIN:DAYLIGHT
TZOFFSETFROM:+0100
TZOFFSETTO:+0200
TZNAME:CEST
DTSTART:20230326T010000
END:DAYLIGHT
BEGIN:STANDARD
TZOFFSETFROM:+0200
TZOFFSETTO:+0100
TZNAME:CET
DTSTART:20231029T010000
END:STANDARD
END:VTIMEZONE
BEGIN:VEVENT
DTSTART;TZID=Europe/Paris:20220114T100000
DTEND;TZID=Europe/Paris:20220114T120000
DTSTAMP:20260423T224013
CREATED:20250827T095145Z
LAST-MODIFIED:20250827T095146Z
UID:7337-1642154400-1642161600@www.lippc2s.fr
SUMMARY:Séminaire – Toon Kuppens
DESCRIPTION:Education: a new and independent source of identity\, intergroup processes\, and political conflict\nPrésenté par Dr. T. (Toon) Kuppens\, University of Groningen\, The Netherlands-\nhttps://sites.google.com/site/toonkuppens/  \nRésumé de la présentation\nResearch on intergroup relations focuses on many different groups based on gender\, ethnicity\, sexual orientation\, and other characteristics. Arguably\, the most meaningful characteristic that has not been investigated as a source of intergroup processes is people’s level of formal education. Furthermore\, scholars studying inequality or social class often assume that education is merely one indicator of socioeconomic status and is to a large extent interchangeable with other indicators such as income. However\, two reasons why education is very different from income are that (1) education and not income drives current political polarization and (2) people make more internal attributions for education than for income. I therefore argue that education is an independent source of identity and intergroup processes\, and give an overview of research into education-based groups. Findings include that (1) people see their education as an important part of their identity\, (2) low education is an independent source of low subjective social status\, perceived disrespect/misrecognition\, and political alienation\, especially in countries with higher proportions of higher educated\, (3) education is perceived as a legitimate source of status\, including by the lower educated\, (4) higher educated people show education-based intergroup bias\, especially when they identify with their own education group\, (5) among people with lower levels of education\, identification is related to support for populism and support for collective action on behalf of the lower educated.
URL:https://www.lippc2s.fr/event/seminaire-toon-kuppens/
LOCATION:Campus de Jacob-Bellecombette – Salle 503\, Rue Jean-Baptiste Richard 73000 Jacob-Bellecombette
CATEGORIES:Séminaire
END:VEVENT
END:VCALENDAR