BEGIN:VCALENDAR
VERSION:2.0
PRODID:-//Laboratoire Inter-universitaire de Psychologie - ECPv6.15.17//NONSGML v1.0//EN
CALSCALE:GREGORIAN
METHOD:PUBLISH
X-ORIGINAL-URL:https://www.lippc2s.fr
X-WR-CALDESC:Évènements pour Laboratoire Inter-universitaire de Psychologie
REFRESH-INTERVAL;VALUE=DURATION:PT1H
X-Robots-Tag:noindex
X-PUBLISHED-TTL:PT1H
BEGIN:VTIMEZONE
TZID:Europe/Paris
BEGIN:DAYLIGHT
TZOFFSETFROM:+0100
TZOFFSETTO:+0200
TZNAME:CEST
DTSTART:20200329T010000
END:DAYLIGHT
BEGIN:STANDARD
TZOFFSETFROM:+0200
TZOFFSETTO:+0100
TZNAME:CET
DTSTART:20201025T010000
END:STANDARD
BEGIN:DAYLIGHT
TZOFFSETFROM:+0100
TZOFFSETTO:+0200
TZNAME:CEST
DTSTART:20210328T010000
END:DAYLIGHT
BEGIN:STANDARD
TZOFFSETFROM:+0200
TZOFFSETTO:+0100
TZNAME:CET
DTSTART:20211031T010000
END:STANDARD
BEGIN:DAYLIGHT
TZOFFSETFROM:+0100
TZOFFSETTO:+0200
TZNAME:CEST
DTSTART:20220327T010000
END:DAYLIGHT
BEGIN:STANDARD
TZOFFSETFROM:+0200
TZOFFSETTO:+0100
TZNAME:CET
DTSTART:20221030T010000
END:STANDARD
END:VTIMEZONE
BEGIN:VEVENT
DTSTART;TZID=Europe/Paris:20210402T150000
DTEND;TZID=Europe/Paris:20210402T170000
DTSTAMP:20260424T123448
CREATED:20250827T101029Z
LAST-MODIFIED:20250827T101029Z
UID:7555-1617375600-1617382800@www.lippc2s.fr
SUMMARY:Séminaire – Massimiliano ORRI
DESCRIPTION:Dysrégulation émotionnelle et irritabilité à l’enfance\, et comportements suicidaires à l’adolescence et chez le jeune adulte. Présentation des déterminants et stratégies de prévention\nSuicidal ideation and suicide attempt (suicidality) are common in adolescence and a public health concern. Childhood depression is a key risk factor for later suicidality and often co-occurs with irritability. No study to date has examined the joint association of depressive mood and irritability during childhood with later suicidality. Childrenwithhighirritabilityanddepressive/anxiousmood and\, to a lesser extent\, with moderate irritability only had a higher suicidal risk during adolescence compared with children with low symptom levels. Early manifestation of chronic irritability during childhood\, especially when combined with depressive/anxious mood\, maybe associated with an elevated risk for adolescent suicidality. The putatively causal role of irritability should be investigated.
URL:https://www.lippc2s.fr/event/seminaire-massimiliano-orri/
CATEGORIES:Séminaire
END:VEVENT
BEGIN:VEVENT
DTSTART;TZID=Europe/Paris:20210409T100000
DTEND;TZID=Europe/Paris:20210409T120000
DTSTAMP:20260424T123448
CREATED:20250827T101130Z
LAST-MODIFIED:20250827T101130Z
UID:7560-1617962400-1617969600@www.lippc2s.fr
SUMMARY:Séminaire – Matthias BERKING
DESCRIPTION:Emotion Regulation – a Promising Target in the Treatment of Various Disorders? Matthias BERKING is a professor of clinical psychology at Friedrich-Alexander – University Erlangen-Nuremberg\,  Department of Clinical Psychology and Psychotherapy\, Erlangen\, Germany. He has been working on emotion regulation\, mental health and cognitive behavioural therapy.
URL:https://www.lippc2s.fr/event/seminaire-matthias-berking/
CATEGORIES:Séminaire
END:VEVENT
BEGIN:VEVENT
DTSTART;TZID=Europe/Paris:20210416T100000
DTEND;TZID=Europe/Paris:20210416T120000
DTSTAMP:20260424T123448
CREATED:20250827T101026Z
LAST-MODIFIED:20250827T101026Z
UID:7551-1618567200-1618574400@www.lippc2s.fr
SUMMARY:Séminaire – Alexandre HEEREN
DESCRIPTION:Vers une approche systémique et dynamique des processus cognitifs et émotionnels en psychopathologie Alexandre HEEREN est professeur à l’Institut de Recherche en Sciences Psychologiques\, UCLouvain\, Belgique et Chercheur Qualifié au Fond National de la Recherche Scientifique (FRS-FNRS)\, Belgique.
URL:https://www.lippc2s.fr/event/seminaire-alexandre-heeren/
CATEGORIES:Séminaire
END:VEVENT
END:VCALENDAR