BEGIN:VCALENDAR
VERSION:2.0
PRODID:-//Laboratoire Inter-universitaire de Psychologie - ECPv6.15.17//NONSGML v1.0//EN
CALSCALE:GREGORIAN
METHOD:PUBLISH
X-ORIGINAL-URL:https://www.lippc2s.fr
X-WR-CALDESC:Évènements pour Laboratoire Inter-universitaire de Psychologie
REFRESH-INTERVAL;VALUE=DURATION:PT1H
X-Robots-Tag:noindex
X-PUBLISHED-TTL:PT1H
BEGIN:VTIMEZONE
TZID:Europe/Paris
BEGIN:DAYLIGHT
TZOFFSETFROM:+0100
TZOFFSETTO:+0200
TZNAME:CEST
DTSTART:20190331T010000
END:DAYLIGHT
BEGIN:STANDARD
TZOFFSETFROM:+0200
TZOFFSETTO:+0100
TZNAME:CET
DTSTART:20191027T010000
END:STANDARD
BEGIN:DAYLIGHT
TZOFFSETFROM:+0100
TZOFFSETTO:+0200
TZNAME:CEST
DTSTART:20200329T010000
END:DAYLIGHT
BEGIN:STANDARD
TZOFFSETFROM:+0200
TZOFFSETTO:+0100
TZNAME:CET
DTSTART:20201025T010000
END:STANDARD
BEGIN:DAYLIGHT
TZOFFSETFROM:+0100
TZOFFSETTO:+0200
TZNAME:CEST
DTSTART:20210328T010000
END:DAYLIGHT
BEGIN:STANDARD
TZOFFSETFROM:+0200
TZOFFSETTO:+0100
TZNAME:CET
DTSTART:20211031T010000
END:STANDARD
END:VTIMEZONE
BEGIN:VEVENT
DTSTART;TZID=Europe/Paris:20201002T123000
DTEND;TZID=Europe/Paris:20201002T143000
DTSTAMP:20260424T215513
CREATED:20250827T101132Z
LAST-MODIFIED:20250827T101132Z
UID:7565-1601641800-1601649000@www.lippc2s.fr
SUMMARY:Séminaire – Eiko FRIED
DESCRIPTION:Lack of theory building and testing impedes progress in psychological science\nThe applied social science literature using factor and network models continues to grow rapidly. Most work reads like an exercise in model fitting\, and falls short of theory building and testing in three ways. First\, statistical and theoretical models are conflated\, leading to invalid inferences such as the existence of psychological constructs based on factor models\, or recommendations for clinical interventions based on network models. I my talk\, demonstrate this inferential gap in a simulation: excellent model fit does little to corroborate a theory\, regardless of quality or quantity of data. Second\, researchers fail to explicate theories about psychological constructs\, but use implicit causal beliefs to guide inferences. These latent theories have led to problematic best practices. Third\, explicated theories are often weak theories: imprecise descriptions vulnerable to hidden assumptions and unknowns. Such theories do not offer precise predictions\, and it is often unclear whether statistical effects actually corroborate weak theories or not. I demonstrate that these three challenges are common and harmful\, and impede theory formation\, failure\, and reform. Matching theoretical and statistical models is necessary to bring data to bear on theories\, and a renewed focus on theoretical psychology and formalizing theories offers a way forward.
URL:https://www.lippc2s.fr/event/seminaire-eiko-fried/
CATEGORIES:Séminaire
END:VEVENT
END:VCALENDAR