BEGIN:VCALENDAR
VERSION:2.0
PRODID:-//Laboratoire Inter-universitaire de Psychologie - ECPv6.15.17//NONSGML v1.0//EN
CALSCALE:GREGORIAN
METHOD:PUBLISH
X-ORIGINAL-URL:https://www.lippc2s.fr
X-WR-CALDESC:Évènements pour Laboratoire Inter-universitaire de Psychologie
REFRESH-INTERVAL;VALUE=DURATION:PT1H
X-Robots-Tag:noindex
X-PUBLISHED-TTL:PT1H
BEGIN:VTIMEZONE
TZID:Europe/Paris
BEGIN:DAYLIGHT
TZOFFSETFROM:+0100
TZOFFSETTO:+0200
TZNAME:CEST
DTSTART:20180325T010000
END:DAYLIGHT
BEGIN:STANDARD
TZOFFSETFROM:+0200
TZOFFSETTO:+0100
TZNAME:CET
DTSTART:20181028T010000
END:STANDARD
BEGIN:DAYLIGHT
TZOFFSETFROM:+0100
TZOFFSETTO:+0200
TZNAME:CEST
DTSTART:20190331T010000
END:DAYLIGHT
BEGIN:STANDARD
TZOFFSETFROM:+0200
TZOFFSETTO:+0100
TZNAME:CET
DTSTART:20191027T010000
END:STANDARD
BEGIN:DAYLIGHT
TZOFFSETFROM:+0100
TZOFFSETTO:+0200
TZNAME:CEST
DTSTART:20200329T010000
END:DAYLIGHT
BEGIN:STANDARD
TZOFFSETFROM:+0200
TZOFFSETTO:+0100
TZNAME:CET
DTSTART:20201025T010000
END:STANDARD
END:VTIMEZONE
BEGIN:VEVENT
DTSTART;TZID=Europe/Paris:20190222T100000
DTEND;TZID=Europe/Paris:20190222T120000
DTSTAMP:20260426T060855
CREATED:20250827T101445Z
LAST-MODIFIED:20250827T101446Z
UID:7606-1550829600-1550836800@www.lippc2s.fr
SUMMARY:Séminaire – Marcel ZEELENBERG
DESCRIPTION:Regret in Decision Making\nRegret is the prototypical decision related emotion. It is felt when the outcome of a non-chosen alternative is better than the outcomes obtained. Regret a functional emotion that helps people to correct mistakes. It is also functional because people can anticipate regret beforehand and then choose in such a way to avoid regret from happening. Researchers in economics proposed regret theory\, an alternative to rational choice theory that takes into account the anticipation of regret and its influence in choice. Researchers in psychology in studied how anticipations of regret influence decision making in a variety of domains\, amongst which the health domain. The findings suggest that interventions can be developed that are based on the idea that people are regret averse. I will provide an overview of research on regret and how it may impact choice.  \nMarcel ZEELENBERG\, Professeur à l’Université de Tilburg (Pays-Bas) et à l’Université Libre d’Amsterdam (VU). Ses travaux portent en particulier sur les émotions et la prise de décision.
URL:https://www.lippc2s.fr/event/seminaire-marcel-zeelenberg/
LOCATION:Université Savoie Mont Blanc\, salle 20020\, 73000 Jacob-Bellecombette\, France
CATEGORIES:Séminaire
END:VEVENT
END:VCALENDAR