BEGIN:VCALENDAR
VERSION:2.0
PRODID:-//Laboratoire Inter-universitaire de Psychologie - ECPv6.15.17//NONSGML v1.0//EN
CALSCALE:GREGORIAN
METHOD:PUBLISH
X-ORIGINAL-URL:https://www.lippc2s.fr
X-WR-CALDESC:Évènements pour Laboratoire Inter-universitaire de Psychologie
REFRESH-INTERVAL;VALUE=DURATION:PT1H
X-Robots-Tag:noindex
X-PUBLISHED-TTL:PT1H
BEGIN:VTIMEZONE
TZID:Europe/Paris
BEGIN:DAYLIGHT
TZOFFSETFROM:+0100
TZOFFSETTO:+0200
TZNAME:CEST
DTSTART:20210328T010000
END:DAYLIGHT
BEGIN:STANDARD
TZOFFSETFROM:+0200
TZOFFSETTO:+0100
TZNAME:CET
DTSTART:20211031T010000
END:STANDARD
BEGIN:DAYLIGHT
TZOFFSETFROM:+0100
TZOFFSETTO:+0200
TZNAME:CEST
DTSTART:20220327T010000
END:DAYLIGHT
BEGIN:STANDARD
TZOFFSETFROM:+0200
TZOFFSETTO:+0100
TZNAME:CET
DTSTART:20221030T010000
END:STANDARD
BEGIN:DAYLIGHT
TZOFFSETFROM:+0100
TZOFFSETTO:+0200
TZNAME:CEST
DTSTART:20230326T010000
END:DAYLIGHT
BEGIN:STANDARD
TZOFFSETFROM:+0200
TZOFFSETTO:+0100
TZNAME:CET
DTSTART:20231029T010000
END:STANDARD
END:VTIMEZONE
BEGIN:VEVENT
DTSTART;TZID=Europe/Paris:20220929T130000
DTEND;TZID=Europe/Paris:20220929T150000
DTSTAMP:20260423T220959
CREATED:20250827T094715Z
LAST-MODIFIED:20250827T094715Z
UID:7301-1664456400-1664463600@www.lippc2s.fr
SUMMARY:Réunion d’axe – RAC
DESCRIPTION:Ordre du jour : Tour de table de manière à ce que chacun se présente et présente ce sur quoi il travaille prioritairement. Les nouveaux doctorants seront invités à présenter en 20 mn maximum leur sujet de recherche.\nComptes rendus des derniers colloques auxquels certains d’entre nous ont participé : PTO-Sud\, EAHOP\, Réseau Qualité de vie-RPS\, GESTES\, etc.
URL:https://www.lippc2s.fr/event/reunion-daxe-rac-2/
LOCATION:Salle C 121\, Bâtiment Michel Dubois
CATEGORIES:Réunion/Évènement interne
END:VEVENT
END:VCALENDAR