BEGIN:VCALENDAR
VERSION:2.0
PRODID:-//Laboratoire Inter-universitaire de Psychologie - ECPv6.15.17//NONSGML v1.0//EN
CALSCALE:GREGORIAN
METHOD:PUBLISH
X-ORIGINAL-URL:https://www.lippc2s.fr
X-WR-CALDESC:Évènements pour Laboratoire Inter-universitaire de Psychologie
REFRESH-INTERVAL;VALUE=DURATION:PT1H
X-Robots-Tag:noindex
X-PUBLISHED-TTL:PT1H
BEGIN:VTIMEZONE
TZID:Europe/Paris
BEGIN:DAYLIGHT
TZOFFSETFROM:+0100
TZOFFSETTO:+0200
TZNAME:CEST
DTSTART:20200329T010000
END:DAYLIGHT
BEGIN:STANDARD
TZOFFSETFROM:+0200
TZOFFSETTO:+0100
TZNAME:CET
DTSTART:20201025T010000
END:STANDARD
BEGIN:DAYLIGHT
TZOFFSETFROM:+0100
TZOFFSETTO:+0200
TZNAME:CEST
DTSTART:20210328T010000
END:DAYLIGHT
BEGIN:STANDARD
TZOFFSETFROM:+0200
TZOFFSETTO:+0100
TZNAME:CET
DTSTART:20211031T010000
END:STANDARD
BEGIN:DAYLIGHT
TZOFFSETFROM:+0100
TZOFFSETTO:+0200
TZNAME:CEST
DTSTART:20220327T010000
END:DAYLIGHT
BEGIN:STANDARD
TZOFFSETFROM:+0200
TZOFFSETTO:+0100
TZNAME:CET
DTSTART:20221030T010000
END:STANDARD
END:VTIMEZONE
BEGIN:VEVENT
DTSTART;TZID=Europe/Paris:20211008T123000
DTEND;TZID=Europe/Paris:20211008T140000
DTSTAMP:20260423T023516
CREATED:20250827T095649Z
LAST-MODIFIED:20250827T095649Z
UID:7394-1633696200-1633701600@www.lippc2s.fr
SUMMARY:Réunion d’axe – Cognition Sociale
DESCRIPTION:
URL:https://www.lippc2s.fr/event/reunion-daxe-cognition-sociale-10/
CATEGORIES:Réunion/Évènement interne
END:VEVENT
BEGIN:VEVENT
DTSTART;TZID=Europe/Paris:20211026T123000
DTEND;TZID=Europe/Paris:20211026T140000
DTSTAMP:20260423T023516
CREATED:20250827T095550Z
LAST-MODIFIED:20250827T095552Z
UID:7381-1635251400-1635256800@www.lippc2s.fr
SUMMARY:Réunion d’axe – Clinique
DESCRIPTION:
URL:https://www.lippc2s.fr/event/reunion-daxe-clinique-3/
CATEGORIES:Réunion/Évènement interne
END:VEVENT
BEGIN:VEVENT
DTSTART;TZID=Europe/Paris:20211027T100000
DTEND;TZID=Europe/Paris:20211027T120000
DTSTAMP:20260423T023516
CREATED:20250827T095236Z
LAST-MODIFIED:20250827T095236Z
UID:7354-1635328800-1635336000@www.lippc2s.fr
SUMMARY:Réunion d’axe – RAC
DESCRIPTION:Présentation d’Etienne Fournier (thèse s/d d’Aurélie Landry et de Christine Jeoffrion) sur le thème des variabilités en situation d’implémentation d’un cobot (COllaborative roBOT).
URL:https://www.lippc2s.fr/event/reunion-daxe-rac-4/
CATEGORIES:Réunion/Évènement interne
END:VEVENT
BEGIN:VEVENT
DTSTART;TZID=Europe/Paris:20211029T123000
DTEND;TZID=Europe/Paris:20211029T140000
DTSTAMP:20260423T023516
CREATED:20250827T095233Z
LAST-MODIFIED:20250827T095233Z
UID:7350-1635510600-1635516000@www.lippc2s.fr
SUMMARY:Réunion d’axe – Cognition Sociale
DESCRIPTION:Presentation by Yoann Julliard on Memory processes and approach/avoidance effects
URL:https://www.lippc2s.fr/event/reunion-daxe-cognition-sociale-7/
CATEGORIES:Réunion/Évènement interne
END:VEVENT
END:VCALENDAR