BEGIN:VCALENDAR
VERSION:2.0
PRODID:-//Laboratoire Inter-universitaire de Psychologie - ECPv6.15.17//NONSGML v1.0//EN
CALSCALE:GREGORIAN
METHOD:PUBLISH
X-ORIGINAL-URL:https://www.lippc2s.fr
X-WR-CALDESC:Évènements pour Laboratoire Inter-universitaire de Psychologie
REFRESH-INTERVAL;VALUE=DURATION:PT1H
X-Robots-Tag:noindex
X-PUBLISHED-TTL:PT1H
BEGIN:VTIMEZONE
TZID:Europe/Paris
BEGIN:DAYLIGHT
TZOFFSETFROM:+0100
TZOFFSETTO:+0200
TZNAME:CEST
DTSTART:20220327T010000
END:DAYLIGHT
BEGIN:STANDARD
TZOFFSETFROM:+0200
TZOFFSETTO:+0100
TZNAME:CET
DTSTART:20221030T010000
END:STANDARD
BEGIN:DAYLIGHT
TZOFFSETFROM:+0100
TZOFFSETTO:+0200
TZNAME:CEST
DTSTART:20230326T010000
END:DAYLIGHT
BEGIN:STANDARD
TZOFFSETFROM:+0200
TZOFFSETTO:+0100
TZNAME:CET
DTSTART:20231029T010000
END:STANDARD
BEGIN:DAYLIGHT
TZOFFSETFROM:+0100
TZOFFSETTO:+0200
TZNAME:CEST
DTSTART:20240331T010000
END:DAYLIGHT
BEGIN:STANDARD
TZOFFSETFROM:+0200
TZOFFSETTO:+0100
TZNAME:CET
DTSTART:20241027T010000
END:STANDARD
END:VTIMEZONE
BEGIN:VEVENT
DTSTART;TZID=Europe/Paris:20230403T183000
DTEND;TZID=Europe/Paris:20230403T200000
DTSTAMP:20260423T215036
CREATED:20250827T094537Z
LAST-MODIFIED:20250827T094537Z
UID:7290-1680546600-1680552000@www.lippc2s.fr
SUMMARY:Atelier psycho-découverte #6
DESCRIPTION:La prise en charge du trouble du spectre de l’autisme Animé par Roxane Turgon | Inscription à prix libre mais obligatoire | En distanciel via Zoom
URL:https://www.lippc2s.fr/event/atelier-psycho-decouverte-6/
CATEGORIES:Ateliers
END:VEVENT
END:VCALENDAR