BEGIN:VCALENDAR
VERSION:2.0
PRODID:-//Laboratoire Inter-universitaire de Psychologie - ECPv6.15.17//NONSGML v1.0//EN
CALSCALE:GREGORIAN
METHOD:PUBLISH
X-WR-CALNAME:Laboratoire Inter-universitaire de Psychologie
X-ORIGINAL-URL:https://www.lippc2s.fr
X-WR-CALDESC:Évènements pour Laboratoire Inter-universitaire de Psychologie
REFRESH-INTERVAL;VALUE=DURATION:PT1H
X-Robots-Tag:noindex
X-PUBLISHED-TTL:PT1H
BEGIN:VTIMEZONE
TZID:Europe/Paris
BEGIN:DAYLIGHT
TZOFFSETFROM:+0100
TZOFFSETTO:+0200
TZNAME:CEST
DTSTART:20210328T010000
END:DAYLIGHT
BEGIN:STANDARD
TZOFFSETFROM:+0200
TZOFFSETTO:+0100
TZNAME:CET
DTSTART:20211031T010000
END:STANDARD
BEGIN:DAYLIGHT
TZOFFSETFROM:+0100
TZOFFSETTO:+0200
TZNAME:CEST
DTSTART:20220327T010000
END:DAYLIGHT
BEGIN:STANDARD
TZOFFSETFROM:+0200
TZOFFSETTO:+0100
TZNAME:CET
DTSTART:20221030T010000
END:STANDARD
BEGIN:DAYLIGHT
TZOFFSETFROM:+0100
TZOFFSETTO:+0200
TZNAME:CEST
DTSTART:20230326T010000
END:DAYLIGHT
BEGIN:STANDARD
TZOFFSETFROM:+0200
TZOFFSETTO:+0100
TZNAME:CET
DTSTART:20231029T010000
END:STANDARD
END:VTIMEZONE
BEGIN:VEVENT
DTSTART;TZID=Europe/Paris:20220629T093000
DTEND;TZID=Europe/Paris:20220629T120000
DTSTAMP:20260424T181707
CREATED:20250827T094847Z
LAST-MODIFIED:20250827T135726Z
UID:7318-1656495000-1656504000@www.lippc2s.fr
SUMMARY:Soutenance de thèse – Lucie CORMONS
DESCRIPTION:Titre de la thèse : Modélisation des interactions psychologue – personne âgée en contexte d’évaluation cognitive : Quel futur pour la robotique ?\nComposition du Jury :\n– Mme Anna TCHERKASSOF\, UGA – Directrice de thèse\n– Mme Stéphanie BUISINE\, CESI Paris  – Rapporteure\n– M Alain SOMAT\, Université Rennes 2 – Rapporteur\n– Mme Edith GALY\, Université Côte d’Azur – Examinatrice\n– M Pascal PANSU\, UGA – Examinateur\n– Mme Sylvie PESTY\, UGA – Invitée\n– Mme Caroline POULET\, UGA – Co-directrice \nRésumé Cette thèse répond à la demande issue d’un projet ANR (Agence Nationale de la Recherche) qui vise à doter un Robot d’Assistance Sociale (RAS) de compétences le rendant capable de procéder à un dépistage précoce de troubles neurocognitifs. Ce travail doctoral a deux objectifs. Le premier correspond à l’identification\, la catégorisation et l’opérationnalisation des compétences que le psychologue mobilise lors de l’évaluation des capacités cognitives de personnes âgées. Le deuxième objectif vise à objectiver la qualité de l’alliance de travail entre le psychologue et la personne âgée dans le contexte de la passation évaluative. Dans les deux cas\, une analyse du processus de leur mise en œuvre a été menée. À cette fin\, un corpus multimodal a été créé à partir de l’enregistrement audio-visuel de 11 psychologues filmés dans un living-lab pendant qu’ils évaluaient les capacités cognitives de 64 personnes âgées à l’aide de deux tests évaluatifs (i.e.\, MMSE et RL/RI-16). Basée sur le relevé des actions verbales\, une grille d’analyse des compétences du psychologue en contexte évaluatif a été élaborée à partir de ce corpus audio-visuel\, selon une approche inductive en trois étapes. Cette grille inventorie 15 compétences\, dont 9 compétences centrées test et 6 compétences centrées relation\, nécessaires aux psychologues dans la réalisation de la tâche d’évaluation des troubles neurocognitifs. Les résultats montrent que les psychologues verbalisent davantage lorsque les personnes âgées présentent des capacités cognitives faibles\, sans pour autant être en mesure de préciser à quel type de compétences le psychologue a recours (i.e.\, compétences centrées test ou centrées relation). La qualité de l’alliance de travail de la dyade a été analysée en mesurant la synchronie interactionnelle non verbale (SINV). Les résultats montrent que la SINV est significativement prédite par le taux de compétences centrées relation mobilisées par le psychologue. Ce travail doctoral apporte des éléments de réponse sur les déterminants de l’interaction psychologue – personne âgée en contexte évaluatif. Par ailleurs\, les résultats concernant l’identification\, la catégorisation et l’opérationnalisation des compétences du psychologue en contexte évaluatif tentent de pallier certains problèmes théoriques liés aux compétences. De plus\, dans ce contexte spécifique\, la SINV semble être une mesure prometteuse de la qualité de l’alliance de travail de la dyade. Pour finir\, cette thèse apporte un éclairage théorique et méthodologique sur la conception ergonomique d’un RAS dont l’objectif est de dépister précocement les troubles neurocognitifs de personnes âgées.
URL:https://www.lippc2s.fr/event/soutenance-de-these-lucie-cormons/
LOCATION:Salle Annie Génovèse – Bâtiment Michel Dubois\, 1251 rue des universités – 38400 Saint Martin d’Hères
CATEGORIES:Soutenance
END:VEVENT
END:VCALENDAR