BEGIN:VCALENDAR
VERSION:2.0
PRODID:-//Laboratoire Inter-universitaire de Psychologie - ECPv6.15.17//NONSGML v1.0//EN
CALSCALE:GREGORIAN
METHOD:PUBLISH
X-WR-CALNAME:Laboratoire Inter-universitaire de Psychologie
X-ORIGINAL-URL:https://www.lippc2s.fr
X-WR-CALDESC:Évènements pour Laboratoire Inter-universitaire de Psychologie
REFRESH-INTERVAL;VALUE=DURATION:PT1H
X-Robots-Tag:noindex
X-PUBLISHED-TTL:PT1H
BEGIN:VTIMEZONE
TZID:Europe/Paris
BEGIN:DAYLIGHT
TZOFFSETFROM:+0100
TZOFFSETTO:+0200
TZNAME:CEST
DTSTART:20210328T010000
END:DAYLIGHT
BEGIN:STANDARD
TZOFFSETFROM:+0200
TZOFFSETTO:+0100
TZNAME:CET
DTSTART:20211031T010000
END:STANDARD
BEGIN:DAYLIGHT
TZOFFSETFROM:+0100
TZOFFSETTO:+0200
TZNAME:CEST
DTSTART:20220327T010000
END:DAYLIGHT
BEGIN:STANDARD
TZOFFSETFROM:+0200
TZOFFSETTO:+0100
TZNAME:CET
DTSTART:20221030T010000
END:STANDARD
BEGIN:DAYLIGHT
TZOFFSETFROM:+0100
TZOFFSETTO:+0200
TZNAME:CEST
DTSTART:20230326T010000
END:DAYLIGHT
BEGIN:STANDARD
TZOFFSETFROM:+0200
TZOFFSETTO:+0100
TZNAME:CET
DTSTART:20231029T010000
END:STANDARD
END:VTIMEZONE
BEGIN:VEVENT
DTSTART;TZID=Europe/Paris:20220215T123000
DTEND;TZID=Europe/Paris:20220215T140000
DTSTAMP:20260425T021356
CREATED:20250827T095551Z
LAST-MODIFIED:20250827T095552Z
UID:7384-1644928200-1644933600@www.lippc2s.fr
SUMMARY:Réunion d’axe – Clinique
DESCRIPTION:
URL:https://www.lippc2s.fr/event/reunion-daxe-clinique-6/
CATEGORIES:Réunion/Évènement interne
END:VEVENT
BEGIN:VEVENT
DTSTART;TZID=Europe/Paris:20220215T190000
DTEND;TZID=Europe/Paris:20220215T203000
DTSTAMP:20260425T021356
CREATED:20250827T095547Z
LAST-MODIFIED:20250827T095547Z
UID:7378-1644951600-1644957000@www.lippc2s.fr
SUMMARY:Conférence sur la TFC #1
DESCRIPTION:Le rôle de la compassion sur le bien-être psychosocial en période de COVID-19 : Une étude multinationale dans 21 pays Animé par Marcela MATOS | En distanciel via Zoom | Inscription à prix libre mais obligatoire
URL:https://www.lippc2s.fr/event/conference-sur-la-tfc-1/
CATEGORIES:Colloques/Conférences
END:VEVENT
END:VCALENDAR